BEGIN:VCALENDAR
VERSION:2.0
PRODID:-//CP-U16Z6E//NONSGML kigkonsult.se iCalcreator 2.41.80//
CALSCALE:GREGORIAN
UID:30356262-3865-4366-b962-626434363338
BEGIN:VEVENT
UID:65663930-3062-4265-b038-333866356635
DTSTAMP:20260424T231155Z
DESCRIPTION:1/1 K. Pole - Znojmo 2:0 (17\,18)
DTSTART;TZID=Europe/Berlin:20260328T100000
DTEND;TZID=Europe/Berlin:20260328T120000
LOCATION:ZŠ Oskara Nedbala České Budějovice\, O. Nedbala 882 České Budějovi
 ce - České Budějovice 2
SUMMARY:CP-U16Z6E: K. Pole-Znojmo
END:VEVENT
BEGIN:VEVENT
UID:65636232-3064-4139-b830-633462373963
DTSTAMP:20260424T231155Z
DESCRIPTION:2/2 VK Karlovy Vary - TJ Slovan Varnsdorf 2:1 (-18\,22\,2)
DTSTART;TZID=Europe/Berlin:20260328T113000
DTEND;TZID=Europe/Berlin:20260328T133000
LOCATION:ZŠ Oskara Nedbala České Budějovice\, O. Nedbala 882 České Budějovi
 ce - České Budějovice 2
SUMMARY:CP-U16Z6E: VK Karlovy Vary-TJ Slovan Varnsdorf
END:VEVENT
BEGIN:VEVENT
UID:65396435-6233-4464-b861-643763656663
DTSTAMP:20260424T231155Z
DESCRIPTION:3/3 Znojmo - TJ Slovan Varnsdorf 0:2 (-17\,-23)
DTSTART;TZID=Europe/Berlin:20260328T130000
DTEND;TZID=Europe/Berlin:20260328T150000
LOCATION:ZŠ Oskara Nedbala České Budějovice\, O. Nedbala 882 České Budějovi
 ce - České Budějovice 2
SUMMARY:CP-U16Z6E: Znojmo-TJ Slovan Varnsdorf
END:VEVENT
BEGIN:VEVENT
UID:65333338-3364-4439-b966-663266666362
DTSTAMP:20260424T231155Z
DESCRIPTION:4/4 K. Pole - VK Karlovy Vary 2:0 (12\,17)
DTSTART;TZID=Europe/Berlin:20260328T143000
DTEND;TZID=Europe/Berlin:20260328T163000
LOCATION:ZŠ Oskara Nedbala České Budějovice\, O. Nedbala 882 České Budějovi
 ce - České Budějovice 2
SUMMARY:CP-U16Z6E: K. Pole-VK Karlovy Vary
END:VEVENT
BEGIN:VEVENT
UID:61373866-3832-4838-b030-386233333964
DTSTAMP:20260424T231155Z
DESCRIPTION:5/5 K. Pole - TJ Slovan Varnsdorf 2:0 (18\,16)
DTSTART;TZID=Europe/Berlin:20260328T160000
DTEND;TZID=Europe/Berlin:20260328T180000
LOCATION:ZŠ Oskara Nedbala České Budějovice\, O. Nedbala 882 České Budějovi
 ce - České Budějovice 2
SUMMARY:CP-U16Z6E: K. Pole-TJ Slovan Varnsdorf
END:VEVENT
BEGIN:VEVENT
UID:36373637-3262-4935-a536-383039376463
DTSTAMP:20260424T231155Z
DESCRIPTION:6/6 VK Karlovy Vary - Znojmo 2:0 (16\,21)
DTSTART;TZID=Europe/Berlin:20260328T173000
DTEND;TZID=Europe/Berlin:20260328T193000
LOCATION:ZŠ Oskara Nedbala České Budějovice\, O. Nedbala 882 České Budějovi
 ce - České Budějovice 2
SUMMARY:CP-U16Z6E: VK Karlovy Vary-Znojmo
END:VEVENT
END:VCALENDAR
