BEGIN:VCALENDAR
VERSION:2.0
PRODID:-//CP-U16Z6G//NONSGML kigkonsult.se iCalcreator 2.41.80//
CALSCALE:GREGORIAN
UID:61363739-6536-4131-b664-393632633564
BEGIN:VEVENT
UID:39613663-6238-4637-a133-346439346632
DTSTAMP:20260424T201812Z
DESCRIPTION:1/1 VSC Zlín - TJ Spartak Polička 0:2 (-19\,-24)
DTSTART;TZID=Europe/Berlin:20260328T100000
DTEND;TZID=Europe/Berlin:20260328T120000
LOCATION:ZŠ Okružní Zlín\, Okružní 4685 Zlín
SUMMARY:CP-U16Z6G: VSC Zlín-TJ Spartak Polička
END:VEVENT
BEGIN:VEVENT
UID:34376338-6138-4363-b931-343263626534
DTSTAMP:20260424T201812Z
DESCRIPTION:1/2 T.J. Sokol Pardubice I. - TJ Bižuterie Jablonec n/N 0:2 (-1
 8\,-19)
DTSTART;TZID=Europe/Berlin:20260328T100000
DTEND;TZID=Europe/Berlin:20260328T120000
LOCATION:Sportovní hala\, Masarykovo nám. 108 Lázně Bohdaneč
SUMMARY:CP-U16Z6G: T.J. Sokol Pardubice I.-TJ Bižuterie Jablonec n/N
END:VEVENT
BEGIN:VEVENT
UID:65306166-6636-4863-b535-383136323835
DTSTAMP:20260424T201812Z
DESCRIPTION:1/3 SK Kometa Praha - TJ Svitavy 2:0 (21\,19)
DTSTART;TZID=Europe/Berlin:20260328T100000
DTEND;TZID=Europe/Berlin:20260328T120000
LOCATION:Tělocvična ZŠ Na Šutce\, Na Šutce 440 Praha - Troja
SUMMARY:CP-U16Z6G: SK Kometa Praha-TJ Svitavy
END:VEVENT
BEGIN:VEVENT
UID:64393961-3132-4330-b132-646364663238
DTSTAMP:20260424T201812Z
DESCRIPTION:2/4 VK Slavia Plzeň - VSC Zlín 1:2 (26\,-24\,-13)
DTSTART;TZID=Europe/Berlin:20260328T111500
DTEND;TZID=Europe/Berlin:20260328T131500
LOCATION:Tělocvična 15.ZŠ\, Terezie Brzkové 863 Plzeň - Skvrňany
SUMMARY:CP-U16Z6G: VK Slavia Plzeň-VSC Zlín
END:VEVENT
BEGIN:VEVENT
UID:33303430-6335-4131-a163-393233373735
DTSTAMP:20260424T201812Z
DESCRIPTION:2/5 TJ Svitavy - Volejbal Ústí n. L. 0:2 (-19\,-20)
DTSTART;TZID=Europe/Berlin:20260328T111500
DTEND;TZID=Europe/Berlin:20260328T131500
LOCATION:Sportovní hala Na Střelnici\, Pražská 2162 Svitavy - Předměstí
SUMMARY:CP-U16Z6G: TJ Svitavy-Volejbal Ústí n. L.
END:VEVENT
BEGIN:VEVENT
UID:63363663-3633-4232-b665-623061623038
DTSTAMP:20260424T201812Z
DESCRIPTION:2/6 TJ Bižuterie Jablonec n/N - SK Kometa Praha 2:1 (16\,-22\,1
 4)
DTSTART;TZID=Europe/Berlin:20260328T111500
DTEND;TZID=Europe/Berlin:20260328T131500
LOCATION:Městská sportovní hala\, U Přehrady 4747 Jablonec nad Nisou
SUMMARY:CP-U16Z6G: TJ Bižuterie Jablonec n/N-SK Kometa Praha
END:VEVENT
BEGIN:VEVENT
UID:64343331-3237-4462-b665-326632643836
DTSTAMP:20260424T201812Z
DESCRIPTION:3/7 TJ Spartak Polička - VK Slavia Plzeň 1:2 (-18\,10\,-12)
DTSTART;TZID=Europe/Berlin:20260328T123000
DTEND;TZID=Europe/Berlin:20260328T143000
LOCATION:TJ Spartak Polička\, z.s. \, nábř. Svobody 447 Polička - Horní Pře
 dměstí
SUMMARY:CP-U16Z6G: TJ Spartak Polička-VK Slavia Plzeň
END:VEVENT
BEGIN:VEVENT
UID:33653334-6630-4966-a365-383737633031
DTSTAMP:20260424T201812Z
DESCRIPTION:3/8 Volejbal Ústí n. L. - SK Kometa Praha 1:2 (-23\,12\,-5)
DTSTART;TZID=Europe/Berlin:20260328T123000
DTEND;TZID=Europe/Berlin:20260328T143000
LOCATION:Tělocvična Gymnázia a Střední odborné školy dr. Václava Šmejkala\,
  Stará 3299 Ústí nad Labem - Severní Terasa
SUMMARY:CP-U16Z6G: Volejbal Ústí n. L.-SK Kometa Praha
END:VEVENT
BEGIN:VEVENT
UID:31313461-3431-4665-a263-653134383462
DTSTAMP:20260424T201812Z
DESCRIPTION:3/9 T.J. Sokol Pardubice I. - TJ Svitavy 1:2 (-22\,23\,-8)
DTSTART;TZID=Europe/Berlin:20260328T123000
DTEND;TZID=Europe/Berlin:20260328T143000
LOCATION:Sportovní hala\, Masarykovo nám. 108 Lázně Bohdaneč
SUMMARY:CP-U16Z6G: T.J. Sokol Pardubice I.-TJ Svitavy
END:VEVENT
BEGIN:VEVENT
UID:36393436-6635-4532-b131-303063623333
DTSTAMP:20260424T201812Z
DESCRIPTION:4/10 Volejbal Ústí n. L. - VK Slavia Plzeň 2:0 (23\,21)
DTSTART;TZID=Europe/Berlin:20260328T143000
DTEND;TZID=Europe/Berlin:20260328T163000
LOCATION:Tělocvična Gymnázia a Střední odborné školy dr. Václava Šmejkala\,
  Stará 3299 Ústí nad Labem - Severní Terasa
SUMMARY:CP-U16Z6G: Volejbal Ústí n. L.-VK Slavia Plzeň
END:VEVENT
BEGIN:VEVENT
UID:37656130-6130-4338-a464-316136393764
DTSTAMP:20260424T201812Z
DESCRIPTION:4/11 VSC Zlín - T.J. Sokol Pardubice I. 2:0 (24\,15)
DTSTART;TZID=Europe/Berlin:20260328T143000
DTEND;TZID=Europe/Berlin:20260328T163000
LOCATION:ZŠ Okružní Zlín\, Okružní 4685 Zlín
SUMMARY:CP-U16Z6G: VSC Zlín-T.J. Sokol Pardubice I.
END:VEVENT
BEGIN:VEVENT
UID:66316132-6631-4638-b535-316138666463
DTSTAMP:20260424T201812Z
DESCRIPTION:4/12 TJ Svitavy - TJ Bižuterie Jablonec n/N 0:2 (-11\,-17)
DTSTART;TZID=Europe/Berlin:20260328T143000
DTEND;TZID=Europe/Berlin:20260328T163000
LOCATION:Sportovní hala Na Střelnici\, Pražská 2162 Svitavy - Předměstí
SUMMARY:CP-U16Z6G: TJ Svitavy-TJ Bižuterie Jablonec n/N
END:VEVENT
BEGIN:VEVENT
UID:30656465-3832-4764-b562-623239623039
DTSTAMP:20260424T201812Z
DESCRIPTION:5/13 Volejbal Ústí n. L. - TJ Spartak Polička 0:2 (-9\,-22)
DTSTART;TZID=Europe/Berlin:20260328T154500
DTEND;TZID=Europe/Berlin:20260328T174500
LOCATION:Tělocvična Gymnázia a Střední odborné školy dr. Václava Šmejkala\,
  Stará 3299 Ústí nad Labem - Severní Terasa
SUMMARY:CP-U16Z6G: Volejbal Ústí n. L.-TJ Spartak Polička
END:VEVENT
BEGIN:VEVENT
UID:34646266-6635-4631-b262-646634346361
DTSTAMP:20260424T201812Z
DESCRIPTION:5/14 SK Kometa Praha - VSC Zlín 2:0 (24\,18)
DTSTART;TZID=Europe/Berlin:20260328T154500
DTEND;TZID=Europe/Berlin:20260328T174500
LOCATION:Tělocvična ZŠ Na Šutce\, Na Šutce 440 Praha - Troja
SUMMARY:CP-U16Z6G: SK Kometa Praha-VSC Zlín
END:VEVENT
BEGIN:VEVENT
UID:34353733-3730-4231-b837-336631376133
DTSTAMP:20260424T201812Z
DESCRIPTION:5/15 VK Slavia Plzeň - T.J. Sokol Pardubice I. 0:2 (-23\,-22)
DTSTART;TZID=Europe/Berlin:20260328T154500
DTEND;TZID=Europe/Berlin:20260328T174500
LOCATION:Tělocvična 15.ZŠ\, Terezie Brzkové 863 Plzeň - Skvrňany
SUMMARY:CP-U16Z6G: VK Slavia Plzeň-T.J. Sokol Pardubice I.
END:VEVENT
BEGIN:VEVENT
UID:63346564-6630-4230-a364-626337336138
DTSTAMP:20260424T201812Z
DESCRIPTION:6/16 TJ Spartak Polička - TJ Bižuterie Jablonec n/N 1:2 (20\,-1
 8\,-13)
DTSTART;TZID=Europe/Berlin:20260328T170000
DTEND;TZID=Europe/Berlin:20260328T190000
LOCATION:TJ Spartak Polička\, z.s. \, nábř. Svobody 447 Polička - Horní Pře
 dměstí
SUMMARY:CP-U16Z6G: TJ Spartak Polička-TJ Bižuterie Jablonec n/N
END:VEVENT
BEGIN:VEVENT
UID:38333134-6636-4634-b938-623532653733
DTSTAMP:20260424T201812Z
DESCRIPTION:7/17 T.J. Sokol Pardubice I. - TJ Spartak Polička 1:2 (-25\,23\
 ,-10)
DTSTART;TZID=Europe/Berlin:20260329T090000
DTEND;TZID=Europe/Berlin:20260329T110000
LOCATION:Sportovní hala\, Masarykovo nám. 108 Lázně Bohdaneč
SUMMARY:CP-U16Z6G: T.J. Sokol Pardubice I.-TJ Spartak Polička
END:VEVENT
BEGIN:VEVENT
UID:39326535-6165-4863-b035-333733316631
DTSTAMP:20260424T201812Z
DESCRIPTION:7/18 Volejbal Ústí n. L. - TJ Bižuterie Jablonec n/N 0:2 (-12\,
 -22)
DTSTART;TZID=Europe/Berlin:20260329T090000
DTEND;TZID=Europe/Berlin:20260329T110000
LOCATION:Tělocvična Gymnázia a Střední odborné školy dr. Václava Šmejkala\,
  Stará 3299 Ústí nad Labem - Severní Terasa
SUMMARY:CP-U16Z6G: Volejbal Ústí n. L.-TJ Bižuterie Jablonec n/N
END:VEVENT
BEGIN:VEVENT
UID:34663262-3064-4938-b730-333166356135
DTSTAMP:20260424T201812Z
DESCRIPTION:7/19 VK Slavia Plzeň - TJ Svitavy 1:2 (19\,-26\,-8)
DTSTART;TZID=Europe/Berlin:20260329T090000
DTEND;TZID=Europe/Berlin:20260329T110000
LOCATION:Tělocvična 15.ZŠ\, Terezie Brzkové 863 Plzeň - Skvrňany
SUMMARY:CP-U16Z6G: VK Slavia Plzeň-TJ Svitavy
END:VEVENT
BEGIN:VEVENT
UID:34326564-6134-4665-b662-313234396263
DTSTAMP:20260424T201812Z
DESCRIPTION:8/20 T.J. Sokol Pardubice I. - SK Kometa Praha 0:2 (-25\,-22)
DTSTART;TZID=Europe/Berlin:20260329T101500
DTEND;TZID=Europe/Berlin:20260329T121500
LOCATION:Sportovní hala\, Masarykovo nám. 108 Lázně Bohdaneč
SUMMARY:CP-U16Z6G: T.J. Sokol Pardubice I.-SK Kometa Praha
END:VEVENT
BEGIN:VEVENT
UID:66653438-3133-4664-b137-333534306436
DTSTAMP:20260424T201812Z
DESCRIPTION:8/21 VSC Zlín - TJ Svitavy 2:0 (23\,19)
DTSTART;TZID=Europe/Berlin:20260329T101500
DTEND;TZID=Europe/Berlin:20260329T121500
LOCATION:ZŠ Okružní Zlín\, Okružní 4685 Zlín
SUMMARY:CP-U16Z6G: VSC Zlín-TJ Svitavy
END:VEVENT
BEGIN:VEVENT
UID:61663039-3031-4132-b339-653938333335
DTSTAMP:20260424T201812Z
DESCRIPTION:8/22 VK Slavia Plzeň - TJ Bižuterie Jablonec n/N 1:2 (-16\,23\,
 -10)
DTSTART;TZID=Europe/Berlin:20260329T101500
DTEND;TZID=Europe/Berlin:20260329T121500
LOCATION:Tělocvična 15.ZŠ\, Terezie Brzkové 863 Plzeň - Skvrňany
SUMMARY:CP-U16Z6G: VK Slavia Plzeň-TJ Bižuterie Jablonec n/N
END:VEVENT
BEGIN:VEVENT
UID:63313234-6638-4935-b737-346465326433
DTSTAMP:20260424T201812Z
DESCRIPTION:9/23 SK Kometa Praha - TJ Spartak Polička 0:2 (-19\,-18)
DTSTART;TZID=Europe/Berlin:20260329T113000
DTEND;TZID=Europe/Berlin:20260329T133000
LOCATION:Tělocvična ZŠ Na Šutce\, Na Šutce 440 Praha - Troja
SUMMARY:CP-U16Z6G: SK Kometa Praha-TJ Spartak Polička
END:VEVENT
BEGIN:VEVENT
UID:63613332-3130-4634-b261-373035306130
DTSTAMP:20260424T201812Z
DESCRIPTION:9/24 Volejbal Ústí n. L. - T.J. Sokol Pardubice I. 1:2 (-21\,12
 \,-13)
DTSTART;TZID=Europe/Berlin:20260329T113000
DTEND;TZID=Europe/Berlin:20260329T133000
LOCATION:Tělocvična Gymnázia a Střední odborné školy dr. Václava Šmejkala\,
  Stará 3299 Ústí nad Labem - Severní Terasa
SUMMARY:CP-U16Z6G: Volejbal Ústí n. L.-T.J. Sokol Pardubice I.
END:VEVENT
BEGIN:VEVENT
UID:30376662-3364-4535-b565-323038316330
DTSTAMP:20260424T201812Z
DESCRIPTION:9/25 TJ Bižuterie Jablonec n/N - VSC Zlín 0:2 (-22\,-23)
DTSTART;TZID=Europe/Berlin:20260329T113000
DTEND;TZID=Europe/Berlin:20260329T133000
LOCATION:Městská sportovní hala\, U Přehrady 4747 Jablonec nad Nisou
SUMMARY:CP-U16Z6G: TJ Bižuterie Jablonec n/N-VSC Zlín
END:VEVENT
BEGIN:VEVENT
UID:39393731-6266-4731-b632-333335383739
DTSTAMP:20260424T201812Z
DESCRIPTION:10/26 TJ Spartak Polička - TJ Svitavy 1:2 (-18\,23\,-9)
DTSTART;TZID=Europe/Berlin:20260329T124500
DTEND;TZID=Europe/Berlin:20260329T144500
LOCATION:TJ Spartak Polička\, z.s. \, nábř. Svobody 447 Polička - Horní Pře
 dměstí
SUMMARY:CP-U16Z6G: TJ Spartak Polička-TJ Svitavy
END:VEVENT
BEGIN:VEVENT
UID:34616265-6136-4165-a235-376538336631
DTSTAMP:20260424T201812Z
DESCRIPTION:10/27 VSC Zlín - Volejbal Ústí n. L. 1:2 (-19\,25\,-3)
DTSTART;TZID=Europe/Berlin:20260329T124500
DTEND;TZID=Europe/Berlin:20260329T144500
LOCATION:ZŠ Okružní Zlín\, Okružní 4685 Zlín
SUMMARY:CP-U16Z6G: VSC Zlín-Volejbal Ústí n. L.
END:VEVENT
BEGIN:VEVENT
UID:35373165-3864-4731-b135-613135633831
DTSTAMP:20260424T201812Z
DESCRIPTION:10/28 VK Slavia Plzeň - SK Kometa Praha 1:2 (21\,-19\,-9)
DTSTART;TZID=Europe/Berlin:20260329T124500
DTEND;TZID=Europe/Berlin:20260329T144500
LOCATION:Tělocvična 15.ZŠ\, Terezie Brzkové 863 Plzeň - Skvrňany
SUMMARY:CP-U16Z6G: VK Slavia Plzeň-SK Kometa Praha
END:VEVENT
END:VCALENDAR
