BEGIN:VCALENDAR
VERSION:2.0
PRODID:-//CP-U16Z6M//NONSGML kigkonsult.se iCalcreator 2.41.80//
CALSCALE:GREGORIAN
UID:37396339-3238-4762-b332-626636326336
BEGIN:VEVENT
UID:32363663-3961-4733-a166-633130363262
DTSTAMP:20260425T003129Z
DESCRIPTION:1/1 Mělník - Sokol Předklášteří 0:2 (-16\,-17)
DTSTART;TZID=Europe/Berlin:20260328T090000
DTEND;TZID=Europe/Berlin:20260328T110000
LOCATION:Tělocvična ZŠ J. Matiegky\, Pražská 2817 Mělník
SUMMARY:CP-U16Z6M: Mělník-Sokol Předklášteří
END:VEVENT
BEGIN:VEVENT
UID:38396562-6130-4862-b030-306262316165
DTSTAMP:20260425T003129Z
DESCRIPTION:1/2 Lanškroun - Uh.Hradiště 2:0 (16\,19)
DTSTART;TZID=Europe/Berlin:20260328T090000
DTEND;TZID=Europe/Berlin:20260328T110000
LOCATION:SOŠ a SOU Lanškroun\, Sokolská 288 Lanškroun - Ostrovské Předměstí
SUMMARY:CP-U16Z6M: Lanškroun-Uh.Hradiště
END:VEVENT
BEGIN:VEVENT
UID:37326530-3438-4234-a162-646162323131
DTSTAMP:20260425T003129Z
DESCRIPTION:2/3 SK TŘEBÍN - Sokol Předklášteří 1:2 (-15\,31\,-1)
DTSTART;TZID=Europe/Berlin:20260328T103000
DTEND;TZID=Europe/Berlin:20260328T123000
LOCATION:ZŠ Máj I\, M. Chlajna 1319 České Budějovice - České Budějovice 2
SUMMARY:CP-U16Z6M: SK TŘEBÍN-Sokol Předklášteří
END:VEVENT
BEGIN:VEVENT
UID:33376132-6666-4136-b837-653065323666
DTSTAMP:20260425T003129Z
DESCRIPTION:2/4 Uh.Hradiště - Kladno C 2:1 (-22\,8\,4)
DTSTART;TZID=Europe/Berlin:20260328T103000
DTEND;TZID=Europe/Berlin:20260328T123000
LOCATION:Městská sportovní hala\, Stonky 860 Uherské Hradiště
SUMMARY:CP-U16Z6M: Uh.Hradiště-Kladno C
END:VEVENT
BEGIN:VEVENT
UID:33343330-6338-4265-b937-313338323061
DTSTAMP:20260425T003129Z
DESCRIPTION:3/5 SK TŘEBÍN - TJ Lokomotiva Česká Lípa 2:0 (13\,21)
DTSTART;TZID=Europe/Berlin:20260328T113000
DTEND;TZID=Europe/Berlin:20260328T133000
LOCATION:ZŠ Máj I\, M. Chlajna 1319 České Budějovice - České Budějovice 2
SUMMARY:CP-U16Z6M: SK TŘEBÍN-TJ Lokomotiva Česká Lípa
END:VEVENT
BEGIN:VEVENT
UID:30373765-6361-4534-b164-353335373235
DTSTAMP:20260425T003129Z
DESCRIPTION:3/6 Lanškroun - Kladno C 2:0 (13\,19)
DTSTART;TZID=Europe/Berlin:20260328T113000
DTEND;TZID=Europe/Berlin:20260328T133000
LOCATION:SOŠ a SOU Lanškroun\, Sokolská 288 Lanškroun - Ostrovské Předměstí
SUMMARY:CP-U16Z6M: Lanškroun-Kladno C
END:VEVENT
BEGIN:VEVENT
UID:33653062-6333-4037-b963-316665323363
DTSTAMP:20260425T003129Z
DESCRIPTION:4/7 TJ Lokomotiva Česká Lípa - Sokol Předklášteří 0:2 (-16\,-18
 )
DTSTART;TZID=Europe/Berlin:20260328T130000
DTEND;TZID=Europe/Berlin:20260328T150000
LOCATION:ZŠ Lada\, Šluknovská 2904 Česká Lípa
SUMMARY:CP-U16Z6M: TJ Lokomotiva Česká Lípa-Sokol Předklášteří
END:VEVENT
BEGIN:VEVENT
UID:32626666-3333-4661-b239-303061356661
DTSTAMP:20260425T003129Z
DESCRIPTION:4/8 Uh.Hradiště - Mělník 2:1 (11\,-21\,11)
DTSTART;TZID=Europe/Berlin:20260328T130000
DTEND;TZID=Europe/Berlin:20260328T150000
LOCATION:Městská sportovní hala\, Stonky 860 Uherské Hradiště
SUMMARY:CP-U16Z6M: Uh.Hradiště-Mělník
END:VEVENT
BEGIN:VEVENT
UID:35623434-3861-4434-b630-663862393962
DTSTAMP:20260425T003129Z
DESCRIPTION:5/9 Kladno C - SK TŘEBÍN 0:2 (-8\,-24)
DTSTART;TZID=Europe/Berlin:20260328T140000
DTEND;TZID=Europe/Berlin:20260328T160000
LOCATION:Kladenská sportovní hala\, Sportovců 817 Kladno - Rozdělov
SUMMARY:CP-U16Z6M: Kladno C-SK TŘEBÍN
END:VEVENT
BEGIN:VEVENT
UID:62613433-6330-4637-b339-343830336339
DTSTAMP:20260425T003129Z
DESCRIPTION:5/10 Lanškroun - Mělník 2:0 (16\,17)
DTSTART;TZID=Europe/Berlin:20260328T140000
DTEND;TZID=Europe/Berlin:20260328T160000
LOCATION:SOŠ a SOU Lanškroun\, Sokolská 288 Lanškroun - Ostrovské Předměstí
SUMMARY:CP-U16Z6M: Lanškroun-Mělník
END:VEVENT
BEGIN:VEVENT
UID:34343762-3465-4666-a134-326436323033
DTSTAMP:20260425T003129Z
DESCRIPTION:6/11 Uh.Hradiště - TJ Lokomotiva Česká Lípa 2:0 (16\,8)
DTSTART;TZID=Europe/Berlin:20260328T150000
DTEND;TZID=Europe/Berlin:20260328T170000
LOCATION:Městská sportovní hala\, Stonky 860 Uherské Hradiště
SUMMARY:CP-U16Z6M: Uh.Hradiště-TJ Lokomotiva Česká Lípa
END:VEVENT
BEGIN:VEVENT
UID:61643333-6236-4561-a263-633766623361
DTSTAMP:20260425T003129Z
DESCRIPTION:6/12 Lanškroun - Sokol Předklášteří 2:0 (19\,20)
DTSTART;TZID=Europe/Berlin:20260328T150000
DTEND;TZID=Europe/Berlin:20260328T170000
LOCATION:SOŠ a SOU Lanškroun\, Sokolská 288 Lanškroun - Ostrovské Předměstí
SUMMARY:CP-U16Z6M: Lanškroun-Sokol Předklášteří
END:VEVENT
BEGIN:VEVENT
UID:35613337-3164-4439-b933-336164383830
DTSTAMP:20260425T003129Z
DESCRIPTION:7/13 Kladno C - TJ Lokomotiva Česká Lípa 0:2 (-22\,-26)
DTSTART;TZID=Europe/Berlin:20260328T160000
DTEND;TZID=Europe/Berlin:20260328T180000
LOCATION:Kladenská sportovní hala\, Sportovců 817 Kladno - Rozdělov
SUMMARY:CP-U16Z6M: Kladno C-TJ Lokomotiva Česká Lípa
END:VEVENT
BEGIN:VEVENT
UID:31323166-3433-4666-b131-316161306638
DTSTAMP:20260425T003129Z
DESCRIPTION:7/14 SK TŘEBÍN - Mělník 2:1 (12\,-24\,12)
DTSTART;TZID=Europe/Berlin:20260328T160000
DTEND;TZID=Europe/Berlin:20260328T180000
LOCATION:ZŠ Máj I\, M. Chlajna 1319 České Budějovice - České Budějovice 2
SUMMARY:CP-U16Z6M: SK TŘEBÍN-Mělník
END:VEVENT
BEGIN:VEVENT
UID:39383061-3866-4339-b936-633735663166
DTSTAMP:20260425T003129Z
DESCRIPTION:8/15 TJ Lokomotiva Česká Lípa - Mělník 0:2 (-13\,-13)
DTSTART;TZID=Europe/Berlin:20260329T090000
DTEND;TZID=Europe/Berlin:20260329T110000
LOCATION:ZŠ Lada\, Šluknovská 2904 Česká Lípa
SUMMARY:CP-U16Z6M: TJ Lokomotiva Česká Lípa-Mělník
END:VEVENT
BEGIN:VEVENT
UID:36633737-6237-4132-b632-613834306461
DTSTAMP:20260425T003129Z
DESCRIPTION:8/16 Lanškroun - SK TŘEBÍN 2:0 (16\,16)
DTSTART;TZID=Europe/Berlin:20260329T090000
DTEND;TZID=Europe/Berlin:20260329T110000
LOCATION:SOŠ a SOU Lanškroun\, Sokolská 288 Lanškroun - Ostrovské Předměstí
SUMMARY:CP-U16Z6M: Lanškroun-SK TŘEBÍN
END:VEVENT
BEGIN:VEVENT
UID:30326230-3338-4061-a238-353362613261
DTSTAMP:20260425T003129Z
DESCRIPTION:9/17 Kladno C - Mělník 0:2 (-20\,-15)
DTSTART;TZID=Europe/Berlin:20260329T103000
DTEND;TZID=Europe/Berlin:20260329T123000
LOCATION:Kladenská sportovní hala\, Sportovců 817 Kladno - Rozdělov
SUMMARY:CP-U16Z6M: Kladno C-Mělník
END:VEVENT
BEGIN:VEVENT
UID:34373165-3461-4633-b034-376535626335
DTSTAMP:20260425T003129Z
DESCRIPTION:9/18 Uh.Hradiště - Sokol Předklášteří 2:1 (-21\,21\,10)
DTSTART;TZID=Europe/Berlin:20260329T103000
DTEND;TZID=Europe/Berlin:20260329T123000
LOCATION:Městská sportovní hala\, Stonky 860 Uherské Hradiště
SUMMARY:CP-U16Z6M: Uh.Hradiště-Sokol Předklášteří
END:VEVENT
BEGIN:VEVENT
UID:39396161-3234-4364-b866-393036343430
DTSTAMP:20260425T003129Z
DESCRIPTION:10/19 Lanškroun - TJ Lokomotiva Česká Lípa 2:0 (12\,9)
DTSTART;TZID=Europe/Berlin:20260329T113000
DTEND;TZID=Europe/Berlin:20260329T133000
LOCATION:SOŠ a SOU Lanškroun\, Sokolská 288 Lanškroun - Ostrovské Předměstí
SUMMARY:CP-U16Z6M: Lanškroun-TJ Lokomotiva Česká Lípa
END:VEVENT
BEGIN:VEVENT
UID:39373463-3461-4238-b030-623534653661
DTSTAMP:20260425T003129Z
DESCRIPTION:10/20 Uh.Hradiště - SK TŘEBÍN 2:0 (19\,23)
DTSTART;TZID=Europe/Berlin:20260329T113000
DTEND;TZID=Europe/Berlin:20260329T133000
LOCATION:Městská sportovní hala\, Stonky 860 Uherské Hradiště
SUMMARY:CP-U16Z6M: Uh.Hradiště-SK TŘEBÍN
END:VEVENT
BEGIN:VEVENT
UID:36666165-3464-4462-b337-343064663230
DTSTAMP:20260425T003129Z
DESCRIPTION:11/21 Kladno C - Sokol Předklášteří 0:2 (-14\,-13)
DTSTART;TZID=Europe/Berlin:20260329T123000
DTEND;TZID=Europe/Berlin:20260329T143000
LOCATION:Kladenská sportovní hala\, Sportovců 817 Kladno - Rozdělov
SUMMARY:CP-U16Z6M: Kladno C-Sokol Předklášteří
END:VEVENT
END:VCALENDAR
