BEGIN:VCALENDAR
VERSION:2.0
PRODID:-//EX-U20M-6A//NONSGML kigkonsult.se iCalcreator 2.41.80//
CALSCALE:GREGORIAN
UID:35613162-3235-4030-b730-393038376264
BEGIN:VEVENT
UID:37383566-6166-4432-b931-366265326637
DTSTAMP:20260424T050735Z
DESCRIPTION:1/1 Brno - Kojetín 1:3 (-23\,-18\,10\,-18)
DTSTART;TZID=Europe/Berlin:20260307T100000
DTEND;TZID=Europe/Berlin:20260307T120000
LOCATION:Sportovní gymnázium Ludvíka Daňka\, Botanická 63 Brno - Ponava
SUMMARY:EX-U20M-6A: Brno-Kojetín
END:VEVENT
BEGIN:VEVENT
UID:61356439-3834-4466-b031-393539366234
DTSTAMP:20260424T050735Z
DESCRIPTION:1/2 Blue Ostrava - H. Králové 3:2 (-23\,23\,-20\,18\,6)
DTSTART;TZID=Europe/Berlin:20260307T120000
DTEND;TZID=Europe/Berlin:20260307T140000
LOCATION:Sportovní gymnázium Ludvíka Daňka\, Botanická 63 Brno - Ponava
SUMMARY:EX-U20M-6A: Blue Ostrava-H. Králové
END:VEVENT
BEGIN:VEVENT
UID:62643861-3561-4463-b066-303233303738
DTSTAMP:20260424T050735Z
DESCRIPTION:1/3 Lvi - Kojetín 3:0 (22\,21\,21)
DTSTART;TZID=Europe/Berlin:20260307T140000
DTEND;TZID=Europe/Berlin:20260307T160000
LOCATION:Sportovní gymnázium Ludvíka Daňka\, Botanická 63 Brno - Ponava
SUMMARY:EX-U20M-6A: Lvi-Kojetín
END:VEVENT
BEGIN:VEVENT
UID:65393034-6663-4863-b162-393765643861
DTSTAMP:20260424T050735Z
DESCRIPTION:1/4 Brno - Blue Ostrava 0:3 (-21\,-21\,-22)
DTSTART;TZID=Europe/Berlin:20260307T160000
DTEND;TZID=Europe/Berlin:20260307T180000
LOCATION:Sportovní gymnázium Ludvíka Daňka\, Botanická 63 Brno - Ponava
SUMMARY:EX-U20M-6A: Brno-Blue Ostrava
END:VEVENT
BEGIN:VEVENT
UID:62323035-6166-4239-b033-663236346638
DTSTAMP:20260424T050735Z
DESCRIPTION:1/5 Lvi - H. Králové 3:1 (18\,23\,-19\,14)
DTSTART;TZID=Europe/Berlin:20260307T180000
DTEND;TZID=Europe/Berlin:20260307T200000
LOCATION:Sportovní gymnázium Ludvíka Daňka\, Botanická 63 Brno - Ponava
SUMMARY:EX-U20M-6A: Lvi-H. Králové
END:VEVENT
BEGIN:VEVENT
UID:32666262-3130-4639-b563-303963336364
DTSTAMP:20260424T050735Z
DESCRIPTION:1/6 Kojetín - Blue Ostrava 0:3 (-26\,-19\,-18)
DTSTART;TZID=Europe/Berlin:20260308T090000
DTEND;TZID=Europe/Berlin:20260308T110000
LOCATION:Sportovní gymnázium Ludvíka Daňka\, Botanická 63 Brno - Ponava
SUMMARY:EX-U20M-6A: Kojetín-Blue Ostrava
END:VEVENT
BEGIN:VEVENT
UID:37643937-3232-4337-b030-626435366237
DTSTAMP:20260424T050735Z
DESCRIPTION:1/7 Brno - Lvi 3:2 (20\,-22\,-16\,19\,15)
DTSTART;TZID=Europe/Berlin:20260308T110000
DTEND;TZID=Europe/Berlin:20260308T130000
LOCATION:Sportovní gymnázium Ludvíka Daňka\, Botanická 63 Brno - Ponava
SUMMARY:EX-U20M-6A: Brno-Lvi
END:VEVENT
BEGIN:VEVENT
UID:35336464-3735-4437-b732-343938393463
DTSTAMP:20260424T050735Z
DESCRIPTION:1/8 H. Králové - Kojetín 3:1 (17\,-22\,18\,25)
DTSTART;TZID=Europe/Berlin:20260308T130000
DTEND;TZID=Europe/Berlin:20260308T150000
LOCATION:Sportovní gymnázium Ludvíka Daňka\, Botanická 63 Brno - Ponava
SUMMARY:EX-U20M-6A: H. Králové-Kojetín
END:VEVENT
BEGIN:VEVENT
UID:33303936-6138-4665-a234-353432343664
DTSTAMP:20260424T050735Z
DESCRIPTION:1/9 Blue Ostrava - Lvi 3:2 (-17\,23\,24\,-21\,10)
DTSTART;TZID=Europe/Berlin:20260308T150000
DTEND;TZID=Europe/Berlin:20260308T170000
LOCATION:Sportovní gymnázium Ludvíka Daňka\, Botanická 63 Brno - Ponava
SUMMARY:EX-U20M-6A: Blue Ostrava-Lvi
END:VEVENT
BEGIN:VEVENT
UID:66383432-6562-4132-b162-643463636337
DTSTAMP:20260424T050735Z
DESCRIPTION:1/10 H. Králové - Brno 0:3 (-14\,-25\,-22)
DTSTART;TZID=Europe/Berlin:20260308T170000
DTEND;TZID=Europe/Berlin:20260308T190000
LOCATION:Sportovní gymnázium Ludvíka Daňka\, Botanická 63 Brno - Ponava
SUMMARY:EX-U20M-6A: H. Králové-Brno
END:VEVENT
END:VCALENDAR
