BEGIN:VCALENDAR
VERSION:2.0
PRODID:-//MS-U16Z-T6H//NONSGML kigkonsult.se iCalcreator 2.41.80//
CALSCALE:GREGORIAN
UID:64343138-3732-4364-b931-373466613134
BEGIN:VEVENT
UID:63383334-3135-4462-b561-313333313564
DTSTAMP:20260424T085936Z
DESCRIPTION:1/1 TJ Ostrava C - TJ Kunčičky 1:2 (18\,-11\,-10)
DTSTART;TZID=Europe/Berlin:20260315T090000
DTEND;TZID=Europe/Berlin:20260315T110000
LOCATION:Hala míčových sportů\, Varenská 3098 Ostrava - Moravská Ostrava
SUMMARY:MS-U16Z-T6H: TJ Ostrava C-TJ Kunčičky
END:VEVENT
BEGIN:VEVENT
UID:64623934-3664-4365-b933-303165626636
DTSTAMP:20260424T085936Z
DESCRIPTION:2/2 Happy Sport Opava\,'B' - TJ Hlučín 'B' 2:0 (12\,20)
DTSTART;TZID=Europe/Berlin:20260315T103000
DTEND;TZID=Europe/Berlin:20260315T123000
LOCATION:Hala míčových sportů\, Varenská 3098 Ostrava - Moravská Ostrava
SUMMARY:MS-U16Z-T6H: Happy Sport Opava\,'B'-TJ Hlučín 'B'
END:VEVENT
BEGIN:VEVENT
UID:31353936-3934-4463-b661-633664393231
DTSTAMP:20260424T085936Z
DESCRIPTION:3/3 TJ Ostrava C - Happy Sport Opava\,'B' 0:2 (-21\,-16)
DTSTART;TZID=Europe/Berlin:20260315T120000
DTEND;TZID=Europe/Berlin:20260315T140000
LOCATION:Hala míčových sportů\, Varenská 3098 Ostrava - Moravská Ostrava
SUMMARY:MS-U16Z-T6H: TJ Ostrava C-Happy Sport Opava\,'B'
END:VEVENT
BEGIN:VEVENT
UID:33643431-3364-4764-b934-386534393831
DTSTAMP:20260424T085936Z
DESCRIPTION:4/4 TJ Hlučín 'B' - TJ Kunčičky 2:1 (-17\,23\,12)
DTSTART;TZID=Europe/Berlin:20260315T133000
DTEND;TZID=Europe/Berlin:20260315T153000
LOCATION:Hala míčových sportů\, Varenská 3098 Ostrava - Moravská Ostrava
SUMMARY:MS-U16Z-T6H: TJ Hlučín 'B'-TJ Kunčičky
END:VEVENT
BEGIN:VEVENT
UID:35626335-3836-4036-b433-383262323335
DTSTAMP:20260424T085936Z
DESCRIPTION:5/5 TJ Kunčičky - Happy Sport Opava\,'B' 2:0 (19\,20)
DTSTART;TZID=Europe/Berlin:20260315T150000
DTEND;TZID=Europe/Berlin:20260315T170000
LOCATION:Hala míčových sportů\, Varenská 3098 Ostrava - Moravská Ostrava
SUMMARY:MS-U16Z-T6H: TJ Kunčičky-Happy Sport Opava\,'B'
END:VEVENT
BEGIN:VEVENT
UID:37643963-6364-4164-b763-373466616635
DTSTAMP:20260424T085936Z
DESCRIPTION:6/6 TJ Ostrava C - TJ Hlučín 'B' 2:0 (23\,25)
DTSTART;TZID=Europe/Berlin:20260315T163000
DTEND;TZID=Europe/Berlin:20260315T183000
LOCATION:Hala míčových sportů\, Varenská 3098 Ostrava - Moravská Ostrava
SUMMARY:MS-U16Z-T6H: TJ Ostrava C-TJ Hlučín 'B'
END:VEVENT
END:VCALENDAR
