BEGIN:VCALENDAR
VERSION:2.0
PRODID:-//MCR-U14Z-1D//NONSGML kigkonsult.se iCalcreator 2.41.80//
CALSCALE:GREGORIAN
UID:38616666-3836-4635-a662-636364373436
BEGIN:VEVENT
UID:66396234-6465-4832-b030-323966303336
DTSTAMP:20260421T153027Z
DESCRIPTION:1/1 TJ Sokol Dolní Újezd - TJ Spartak Polička 0:2 (-22\,-18)
DTSTART;TZID=Europe/Berlin:20260321T090000
DTEND;TZID=Europe/Berlin:20260321T110000
LOCATION:tělocvična Základní školy\,  Dolní Újezd342
SUMMARY:MCR-U14Z-1D: TJ Sokol Dolní Újezd-TJ Spartak Polička
END:VEVENT
BEGIN:VEVENT
UID:37366562-6230-4839-b730-353662383033
DTSTAMP:20260421T153027Z
DESCRIPTION:1/2 Orel Letohrad - TJ Žďár nad Sázavou 2:0 (17\,18)
DTSTART;TZID=Europe/Berlin:20260321T090000
DTEND;TZID=Europe/Berlin:20260321T110000
LOCATION:TJ Spartak Letohrad\, Jilemnického 341 Letohrad
SUMMARY:MCR-U14Z-1D: Orel Letohrad-TJ Žďár nad Sázavou
END:VEVENT
BEGIN:VEVENT
UID:30643037-6430-4332-b661-623132653834
DTSTAMP:20260421T153027Z
DESCRIPTION:1/3 Nové Veselí - TJ Jiskra Havlíčkův Brod 2:0 (16\,22)
DTSTART;TZID=Europe/Berlin:20260321T090000
DTEND;TZID=Europe/Berlin:20260321T110000
LOCATION:Víceúčelová sportovní hala Nové Veselí\, Žďárská 356 Nové Veselí
SUMMARY:MCR-U14Z-1D: Nové Veselí-TJ Jiskra Havlíčkův Brod
END:VEVENT
BEGIN:VEVENT
UID:62333861-3736-4566-a263-306564376435
DTSTAMP:20260421T153027Z
DESCRIPTION:2/4 Slavia HK - TJ Sokol Dolní Újezd 2:0 (17\,15)
DTSTART;TZID=Europe/Berlin:20260321T101500
DTEND;TZID=Europe/Berlin:20260321T121500
LOCATION:TJ Slavia Hradec Králové\, Víta Nejedlého 1216 Hradec Králové
SUMMARY:MCR-U14Z-1D: Slavia HK-TJ Sokol Dolní Újezd
END:VEVENT
BEGIN:VEVENT
UID:36656166-3334-4662-b736-386161356230
DTSTAMP:20260421T153027Z
DESCRIPTION:2/5 TJ Jiskra Havlíčkův Brod - Chlumec 2:1 (-15\,18\,6)
DTSTART;TZID=Europe/Berlin:20260321T101500
DTEND;TZID=Europe/Berlin:20260321T121500
LOCATION:Sportovní hala TJ Jiskra II\, Ledečská 3028 Havlíčkův Brod
SUMMARY:MCR-U14Z-1D: TJ Jiskra Havlíčkův Brod-Chlumec
END:VEVENT
BEGIN:VEVENT
UID:37643737-3134-4239-a130-346362353265
DTSTAMP:20260421T153027Z
DESCRIPTION:2/6 TJ Žďár nad Sázavou - Nové Veselí 0:2 (-7\,-16)
DTSTART;TZID=Europe/Berlin:20260321T101500
DTEND;TZID=Europe/Berlin:20260321T121500
LOCATION:Sportovní hala na Bouchalkách\, Jungmannova 1495 Žďár nad Sázavou 
 - Žďár nad Sázavou 1
SUMMARY:MCR-U14Z-1D: TJ Žďár nad Sázavou-Nové Veselí
END:VEVENT
BEGIN:VEVENT
UID:63616635-6333-4665-b537-336463343333
DTSTAMP:20260421T153027Z
DESCRIPTION:3/7 TJ Spartak Polička - Slavia HK 0:2 (-16\,-19)
DTSTART;TZID=Europe/Berlin:20260321T113000
DTEND;TZID=Europe/Berlin:20260321T133000
LOCATION:TJ Spartak Polička\, z.s. \, nábř. Svobody 447 Polička - Horní Pře
 dměstí
SUMMARY:MCR-U14Z-1D: TJ Spartak Polička-Slavia HK
END:VEVENT
BEGIN:VEVENT
UID:65653937-3961-4238-b365-323665656233
DTSTAMP:20260421T153027Z
DESCRIPTION:3/8 Chlumec - Nové Veselí 0:2 (-11\,-21)
DTSTART;TZID=Europe/Berlin:20260321T113000
DTEND;TZID=Europe/Berlin:20260321T133000
LOCATION:Slavíčkova hala\, Sokolská 795 Chlumec nad Cidlinou - Chlumec nad 
 Cidlinou IV
SUMMARY:MCR-U14Z-1D: Chlumec-Nové Veselí
END:VEVENT
BEGIN:VEVENT
UID:39333861-3039-4039-a562-336466326438
DTSTAMP:20260421T153027Z
DESCRIPTION:3/9 Orel Letohrad - TJ Jiskra Havlíčkův Brod 0:2 (-12\,-22)
DTSTART;TZID=Europe/Berlin:20260321T113000
DTEND;TZID=Europe/Berlin:20260321T133000
LOCATION:TJ Spartak Letohrad\, Jilemnického 341 Letohrad
SUMMARY:MCR-U14Z-1D: Orel Letohrad-TJ Jiskra Havlíčkův Brod
END:VEVENT
BEGIN:VEVENT
UID:37396133-6330-4364-a133-373461393966
DTSTAMP:20260421T153027Z
DESCRIPTION:4/10 Chlumec - Slavia HK 2:0 (20\,12)
DTSTART;TZID=Europe/Berlin:20260321T133000
DTEND;TZID=Europe/Berlin:20260321T153000
LOCATION:Slavíčkova hala\, Sokolská 795 Chlumec nad Cidlinou - Chlumec nad 
 Cidlinou IV
SUMMARY:MCR-U14Z-1D: Chlumec-Slavia HK
END:VEVENT
BEGIN:VEVENT
UID:63323835-3066-4263-a533-613065386237
DTSTAMP:20260421T153027Z
DESCRIPTION:4/11 TJ Sokol Dolní Újezd - Orel Letohrad 0:2 (-16\,-22)
DTSTART;TZID=Europe/Berlin:20260321T133000
DTEND;TZID=Europe/Berlin:20260321T153000
LOCATION:tělocvična Základní školy\,  Dolní Újezd342
SUMMARY:MCR-U14Z-1D: TJ Sokol Dolní Újezd-Orel Letohrad
END:VEVENT
BEGIN:VEVENT
UID:65653135-3031-4931-b263-313133356533
DTSTAMP:20260421T153027Z
DESCRIPTION:4/12 TJ Jiskra Havlíčkův Brod - TJ Žďár nad Sázavou 2:1 (14\,-2
 1\,12)
DTSTART;TZID=Europe/Berlin:20260321T133000
DTEND;TZID=Europe/Berlin:20260321T153000
LOCATION:Sportovní hala TJ Jiskra II\, Ledečská 3028 Havlíčkův Brod
SUMMARY:MCR-U14Z-1D: TJ Jiskra Havlíčkův Brod-TJ Žďár nad Sázavou
END:VEVENT
BEGIN:VEVENT
UID:31396537-3063-4330-b265-316165343963
DTSTAMP:20260421T153027Z
DESCRIPTION:5/13 Chlumec - TJ Spartak Polička 1:2 (-25\,10\,-12)
DTSTART;TZID=Europe/Berlin:20260321T144500
DTEND;TZID=Europe/Berlin:20260321T164500
LOCATION:Slavíčkova hala\, Sokolská 795 Chlumec nad Cidlinou - Chlumec nad 
 Cidlinou IV
SUMMARY:MCR-U14Z-1D: Chlumec-TJ Spartak Polička
END:VEVENT
BEGIN:VEVENT
UID:35313837-3936-4561-b761-336264333535
DTSTAMP:20260421T153027Z
DESCRIPTION:5/14 Nové Veselí - TJ Sokol Dolní Újezd 2:0 (11\,15)
DTSTART;TZID=Europe/Berlin:20260321T144500
DTEND;TZID=Europe/Berlin:20260321T164500
LOCATION:Víceúčelová sportovní hala Nové Veselí\, Žďárská 356 Nové Veselí
SUMMARY:MCR-U14Z-1D: Nové Veselí-TJ Sokol Dolní Újezd
END:VEVENT
BEGIN:VEVENT
UID:32646165-3936-4830-b963-306263666561
DTSTAMP:20260421T153027Z
DESCRIPTION:5/15 Slavia HK - Orel Letohrad 2:0 (23\,11)
DTSTART;TZID=Europe/Berlin:20260321T144500
DTEND;TZID=Europe/Berlin:20260321T164500
LOCATION:TJ Slavia Hradec Králové\, Víta Nejedlého 1216 Hradec Králové
SUMMARY:MCR-U14Z-1D: Slavia HK-Orel Letohrad
END:VEVENT
BEGIN:VEVENT
UID:64633431-3735-4137-b461-656462396235
DTSTAMP:20260421T153027Z
DESCRIPTION:6/16 TJ Spartak Polička - TJ Žďár nad Sázavou 2:1 (-14\,22\,9)
DTSTART;TZID=Europe/Berlin:20260321T160000
DTEND;TZID=Europe/Berlin:20260321T180000
LOCATION:TJ Spartak Polička\, z.s. \, nábř. Svobody 447 Polička - Horní Pře
 dměstí
SUMMARY:MCR-U14Z-1D: TJ Spartak Polička-TJ Žďár nad Sázavou
END:VEVENT
BEGIN:VEVENT
UID:62336337-3135-4563-a162-363238336430
DTSTAMP:20260421T153027Z
DESCRIPTION:7/17 Orel Letohrad - TJ Spartak Polička 0:2 (-14\,-20)
DTSTART;TZID=Europe/Berlin:20260322T090000
DTEND;TZID=Europe/Berlin:20260322T110000
LOCATION:TJ Spartak Letohrad\, Jilemnického 341 Letohrad
SUMMARY:MCR-U14Z-1D: Orel Letohrad-TJ Spartak Polička
END:VEVENT
BEGIN:VEVENT
UID:33663737-3361-4431-b830-353162616533
DTSTAMP:20260421T153027Z
DESCRIPTION:7/18 Chlumec - TJ Žďár nad Sázavou 2:0 (17\,16)
DTSTART;TZID=Europe/Berlin:20260322T090000
DTEND;TZID=Europe/Berlin:20260322T110000
LOCATION:Slavíčkova hala\, Sokolská 795 Chlumec nad Cidlinou - Chlumec nad 
 Cidlinou IV
SUMMARY:MCR-U14Z-1D: Chlumec-TJ Žďár nad Sázavou
END:VEVENT
BEGIN:VEVENT
UID:64356361-3362-4665-a439-393337373463
DTSTAMP:20260421T153027Z
DESCRIPTION:7/19 Slavia HK - TJ Jiskra Havlíčkův Brod 0:2 (-12\,-14)
DTSTART;TZID=Europe/Berlin:20260322T090000
DTEND;TZID=Europe/Berlin:20260322T110000
LOCATION:TJ Slavia Hradec Králové\, Víta Nejedlého 1216 Hradec Králové
SUMMARY:MCR-U14Z-1D: Slavia HK-TJ Jiskra Havlíčkův Brod
END:VEVENT
BEGIN:VEVENT
UID:35383838-3831-4630-b130-633537336564
DTSTAMP:20260421T153027Z
DESCRIPTION:8/20 Orel Letohrad - Nové Veselí 0:2 (-7\,-17)
DTSTART;TZID=Europe/Berlin:20260322T101500
DTEND;TZID=Europe/Berlin:20260322T121500
LOCATION:TJ Spartak Letohrad\, Jilemnického 341 Letohrad
SUMMARY:MCR-U14Z-1D: Orel Letohrad-Nové Veselí
END:VEVENT
BEGIN:VEVENT
UID:32373862-3063-4833-a166-353663323634
DTSTAMP:20260421T153027Z
DESCRIPTION:8/21 TJ Sokol Dolní Újezd - TJ Jiskra Havlíčkův Brod 0:2 (-12\,
 -17)
DTSTART;TZID=Europe/Berlin:20260322T101500
DTEND;TZID=Europe/Berlin:20260322T121500
LOCATION:tělocvična Základní školy\,  Dolní Újezd342
SUMMARY:MCR-U14Z-1D: TJ Sokol Dolní Újezd-TJ Jiskra Havlíčkův Brod
END:VEVENT
BEGIN:VEVENT
UID:35656161-3638-4233-b063-386439323932
DTSTAMP:20260421T153027Z
DESCRIPTION:8/22 Slavia HK - TJ Žďár nad Sázavou 2:0 (12\,23)
DTSTART;TZID=Europe/Berlin:20260322T101500
DTEND;TZID=Europe/Berlin:20260322T121500
LOCATION:TJ Slavia Hradec Králové\, Víta Nejedlého 1216 Hradec Králové
SUMMARY:MCR-U14Z-1D: Slavia HK-TJ Žďár nad Sázavou
END:VEVENT
BEGIN:VEVENT
UID:30306432-6265-4966-a339-343830323736
DTSTAMP:20260421T153027Z
DESCRIPTION:9/23 Nové Veselí - TJ Spartak Polička 2:0 (13\,15)
DTSTART;TZID=Europe/Berlin:20260322T113000
DTEND;TZID=Europe/Berlin:20260322T133000
LOCATION:Víceúčelová sportovní hala Nové Veselí\, Žďárská 356 Nové Veselí
SUMMARY:MCR-U14Z-1D: Nové Veselí-TJ Spartak Polička
END:VEVENT
BEGIN:VEVENT
UID:34613630-3534-4630-a637-643436373137
DTSTAMP:20260421T153027Z
DESCRIPTION:9/24 Chlumec - Orel Letohrad 2:0 (17\,13)
DTSTART;TZID=Europe/Berlin:20260322T113000
DTEND;TZID=Europe/Berlin:20260322T133000
LOCATION:Slavíčkova hala\, Sokolská 795 Chlumec nad Cidlinou - Chlumec nad 
 Cidlinou IV
SUMMARY:MCR-U14Z-1D: Chlumec-Orel Letohrad
END:VEVENT
BEGIN:VEVENT
UID:63316561-3437-4438-a365-616137653564
DTSTAMP:20260421T153027Z
DESCRIPTION:9/25 TJ Žďár nad Sázavou - TJ Sokol Dolní Újezd 2:0 (23\,20)
DTSTART;TZID=Europe/Berlin:20260322T113000
DTEND;TZID=Europe/Berlin:20260322T133000
LOCATION:Sportovní hala na Bouchalkách\, Jungmannova 1495 Žďár nad Sázavou 
 - Žďár nad Sázavou 1
SUMMARY:MCR-U14Z-1D: TJ Žďár nad Sázavou-TJ Sokol Dolní Újezd
END:VEVENT
BEGIN:VEVENT
UID:32666630-3639-4130-b365-333937623531
DTSTAMP:20260421T153027Z
DESCRIPTION:10/26 TJ Spartak Polička - TJ Jiskra Havlíčkův Brod 0:2 (-16\,-
 19)
DTSTART;TZID=Europe/Berlin:20260322T124500
DTEND;TZID=Europe/Berlin:20260322T144500
LOCATION:TJ Spartak Polička\, z.s. \, nábř. Svobody 447 Polička - Horní Pře
 dměstí
SUMMARY:MCR-U14Z-1D: TJ Spartak Polička-TJ Jiskra Havlíčkův Brod
END:VEVENT
BEGIN:VEVENT
UID:36323038-6162-4737-b637-646538616536
DTSTAMP:20260421T153027Z
DESCRIPTION:10/27 TJ Sokol Dolní Újezd - Chlumec 0:2 (-17\,-8)
DTSTART;TZID=Europe/Berlin:20260322T124500
DTEND;TZID=Europe/Berlin:20260322T144500
LOCATION:tělocvična Základní školy\,  Dolní Újezd342
SUMMARY:MCR-U14Z-1D: TJ Sokol Dolní Újezd-Chlumec
END:VEVENT
BEGIN:VEVENT
UID:64393834-3762-4664-b030-666261313737
DTSTAMP:20260421T153027Z
DESCRIPTION:10/28 Slavia HK - Nové Veselí 0:2 (-12\,-17)
DTSTART;TZID=Europe/Berlin:20260322T124500
DTEND;TZID=Europe/Berlin:20260322T144500
LOCATION:TJ Slavia Hradec Králové\, Víta Nejedlého 1216 Hradec Králové
SUMMARY:MCR-U14Z-1D: Slavia HK-Nové Veselí
END:VEVENT
END:VCALENDAR
