BEGIN:VCALENDAR
VERSION:2.0
PRODID:-//MS-U16M-T6D//NONSGML kigkonsult.se iCalcreator 2.41.80//
CALSCALE:GREGORIAN
UID:66393032-3265-4334-b231-396233663333
BEGIN:VEVENT
UID:61616265-3438-4461-b236-396631653835
DTSTAMP:20260424T233444Z
DESCRIPTION:1/1 TJ Hlučín - VAM Havířov 3:0 (14\,17\,12)
DTSTART;TZID=Europe/Berlin:20260329T090000
DTEND;TZID=Europe/Berlin:20260329T110000
LOCATION:hala SPŠE\, Makarenkova 513 Havířov - Město
SUMMARY:MS-U16M-T6D: TJ Hlučín-VAM Havířov
END:VEVENT
BEGIN:VEVENT
UID:66663965-6237-4339-a266-653133346533
DTSTAMP:20260424T233444Z
DESCRIPTION:2/2 Blue Ostrava 'B' - VAM Havířov 3:0 (15\,13\,20)
DTSTART;TZID=Europe/Berlin:20260329T100000
DTEND;TZID=Europe/Berlin:20260329T120000
LOCATION:hala SPŠE\, Makarenkova 513 Havířov - Město
SUMMARY:MS-U16M-T6D: Blue Ostrava 'B'-VAM Havířov
END:VEVENT
BEGIN:VEVENT
UID:39346332-3766-4562-b032-356233336366
DTSTAMP:20260424T233444Z
DESCRIPTION:3/3 TJ Hlučín - Blue Ostrava 'B' 3:0 (11\,14\,17)
DTSTART;TZID=Europe/Berlin:20260329T110000
DTEND;TZID=Europe/Berlin:20260329T130000
LOCATION:hala SPŠE\, Makarenkova 513 Havířov - Město
SUMMARY:MS-U16M-T6D: TJ Hlučín-Blue Ostrava 'B'
END:VEVENT
END:VCALENDAR
