BEGIN:VCALENDAR
VERSION:2.0
PRODID:-//MCR-U14Z-1F//NONSGML kigkonsult.se iCalcreator 2.41.80//
CALSCALE:GREGORIAN
UID:65303238-3637-4030-b336-653864313063
BEGIN:VEVENT
UID:31313831-6161-4539-b137-623338323338
DTSTAMP:20260421T153029Z
DESCRIPTION:1/1 Volejbal Jihlava - VK Znojmo - Přímětice 2:0 (13\,9)
DTSTART;TZID=Europe/Berlin:20260321T090000
DTEND;TZID=Europe/Berlin:20260321T110000
LOCATION:ZŠ Jihlava Demlova\, Demlova 4178 Jihlava
SUMMARY:MCR-U14Z-1F: Volejbal Jihlava-VK Znojmo - Přímětice
END:VEVENT
BEGIN:VEVENT
UID:34336633-6466-4063-b033-653930386131
DTSTAMP:20260421T153029Z
DESCRIPTION:1/2 VA MUNI SPORT Brno - TJ Sokol Šlapanice 2:0 (10\,7)
DTSTART;TZID=Europe/Berlin:20260321T090000
DTEND;TZID=Europe/Berlin:20260321T110000
LOCATION:Campus Brno - Hala míčových sportů - Fakulta Sportovní MUNI\, Kame
 nice 753 Brno - Bohunice
SUMMARY:MCR-U14Z-1F: VA MUNI SPORT Brno-TJ Sokol Šlapanice
END:VEVENT
BEGIN:VEVENT
UID:61663935-3531-4539-b338-303236393962
DTSTAMP:20260421T153029Z
DESCRIPTION:1/3 VK Brno - Volejbal Vyškov 'Dívky' 0:2 (-18\,-10)
DTSTART;TZID=Europe/Berlin:20260321T090000
DTEND;TZID=Europe/Berlin:20260321T110000
LOCATION:ZŠ Vejrostova\, Vejrostova 1066 Brno - Bystrc
SUMMARY:MCR-U14Z-1F: VK Brno-Volejbal Vyškov 'Dívky'
END:VEVENT
BEGIN:VEVENT
UID:32346563-3564-4662-b666-323039323966
DTSTAMP:20260421T153029Z
DESCRIPTION:2/4 TJ Slovácká Slavia U. Hradiště - Volejbal Jihlava 0:2 (-7\,
 -5)
DTSTART;TZID=Europe/Berlin:20260321T103000
DTEND;TZID=Europe/Berlin:20260321T123000
LOCATION:Městská sportovní hala\, Stonky 860 Uherské Hradiště
SUMMARY:MCR-U14Z-1F: TJ Slovácká Slavia U. Hradiště-Volejbal Jihlava
END:VEVENT
BEGIN:VEVENT
UID:64373138-3331-4630-b963-306233386565
DTSTAMP:20260421T153029Z
DESCRIPTION:2/5 VA MUNI SPORT Brno - VSK Zlín 0:2 (-10\,-23)
DTSTART;TZID=Europe/Berlin:20260321T103000
DTEND;TZID=Europe/Berlin:20260321T123000
LOCATION:Campus Brno - Hala míčových sportů - Fakulta Sportovní MUNI\, Kame
 nice 753 Brno - Bohunice
SUMMARY:MCR-U14Z-1F: VA MUNI SPORT Brno-VSK Zlín
END:VEVENT
BEGIN:VEVENT
UID:66616431-6234-4032-a631-386430393138
DTSTAMP:20260421T153029Z
DESCRIPTION:2/6 VK Brno - VK Znojmo - Přímětice 0:2 (-9\,-11)
DTSTART;TZID=Europe/Berlin:20260321T103000
DTEND;TZID=Europe/Berlin:20260321T123000
LOCATION:ZŠ Vejrostova\, Vejrostova 1066 Brno - Bystrc
SUMMARY:MCR-U14Z-1F: VK Brno-VK Znojmo - Přímětice
END:VEVENT
BEGIN:VEVENT
UID:63393832-3139-4966-b565-373933643039
DTSTAMP:20260421T153029Z
DESCRIPTION:3/7 Volejbal Vyškov 'Dívky' - VSK Zlín 0:2 (-15\,-9)
DTSTART;TZID=Europe/Berlin:20260321T114500
DTEND;TZID=Europe/Berlin:20260321T134500
SUMMARY:MCR-U14Z-1F: Volejbal Vyškov 'Dívky'-VSK Zlín
END:VEVENT
BEGIN:VEVENT
UID:65646538-3335-4435-b035-663166363765
DTSTAMP:20260421T153029Z
DESCRIPTION:3/8 TJ Slovácká Slavia U. Hradiště - TJ Sokol Šlapanice 2:0 (17
 \,6)
DTSTART;TZID=Europe/Berlin:20260321T114500
DTEND;TZID=Europe/Berlin:20260321T134500
LOCATION:Městská sportovní hala\, Stonky 860 Uherské Hradiště
SUMMARY:MCR-U14Z-1F: TJ Slovácká Slavia U. Hradiště-TJ Sokol Šlapanice
END:VEVENT
BEGIN:VEVENT
UID:39663331-6661-4539-b231-623665616533
DTSTAMP:20260421T153029Z
DESCRIPTION:3/9 Volejbal Jihlava - VK Brno 2:0 (9\,12)
DTSTART;TZID=Europe/Berlin:20260321T114500
DTEND;TZID=Europe/Berlin:20260321T134500
LOCATION:ZŠ Jihlava Demlova\, Demlova 4178 Jihlava
SUMMARY:MCR-U14Z-1F: Volejbal Jihlava-VK Brno
END:VEVENT
BEGIN:VEVENT
UID:33383762-3531-4736-b731-633736363231
DTSTAMP:20260421T153029Z
DESCRIPTION:4/10 VSK Zlín - VK Znojmo - Přímětice 1:2 (18\,-18\,-13)
DTSTART;TZID=Europe/Berlin:20260321T141500
DTEND;TZID=Europe/Berlin:20260321T161500
LOCATION:ZŠ Okružní Zlín\, Okružní 4685 Zlín
SUMMARY:MCR-U14Z-1F: VSK Zlín-VK Znojmo - Přímětice
END:VEVENT
BEGIN:VEVENT
UID:39343530-6463-4135-b366-666437323839
DTSTAMP:20260421T153029Z
DESCRIPTION:4/11 VA MUNI SPORT Brno - TJ Slovácká Slavia U. Hradiště 2:1 (2
 1\,-23\,13)
DTSTART;TZID=Europe/Berlin:20260321T141500
DTEND;TZID=Europe/Berlin:20260321T161500
LOCATION:Campus Brno - Hala míčových sportů - Fakulta Sportovní MUNI\, Kame
 nice 753 Brno - Bohunice
SUMMARY:MCR-U14Z-1F: VA MUNI SPORT Brno-TJ Slovácká Slavia U. Hradiště
END:VEVENT
BEGIN:VEVENT
UID:34653138-6430-4864-a265-316162646564
DTSTAMP:20260421T153029Z
DESCRIPTION:4/12 Volejbal Vyškov 'Dívky' - TJ Sokol Šlapanice 2:0 (14\,14)
DTSTART;TZID=Europe/Berlin:20260321T141500
DTEND;TZID=Europe/Berlin:20260321T161500
SUMMARY:MCR-U14Z-1F: Volejbal Vyškov 'Dívky'-TJ Sokol Šlapanice
END:VEVENT
BEGIN:VEVENT
UID:61666463-3865-4833-b139-643635613430
DTSTAMP:20260421T153029Z
DESCRIPTION:5/13 VK Znojmo - Přímětice - Volejbal Vyškov 'Dívky' 2:0 (5\,23
 )
DTSTART;TZID=Europe/Berlin:20260321T153000
DTEND;TZID=Europe/Berlin:20260321T173000
LOCATION:Tělocvična ZŠ Prokopa Diviše a MŠ\, Ke Škole 569 Znojmo - Přímětic
 e
SUMMARY:MCR-U14Z-1F: VK Znojmo - Přímětice-Volejbal Vyškov 'Dívky'
END:VEVENT
BEGIN:VEVENT
UID:32643534-3365-4361-a162-323936306462
DTSTAMP:20260421T153029Z
DESCRIPTION:5/14 VA MUNI SPORT Brno - Volejbal Jihlava 0:2 (-10\,-16)
DTSTART;TZID=Europe/Berlin:20260321T153000
DTEND;TZID=Europe/Berlin:20260321T173000
LOCATION:Campus Brno - Hala míčových sportů - Fakulta Sportovní MUNI\, Kame
 nice 753 Brno - Bohunice
SUMMARY:MCR-U14Z-1F: VA MUNI SPORT Brno-Volejbal Jihlava
END:VEVENT
BEGIN:VEVENT
UID:30643565-6561-4532-b964-616235396165
DTSTAMP:20260421T153029Z
DESCRIPTION:6/15 VSK Zlín - TJ Sokol Šlapanice 2:0 (7\,13)
DTSTART;TZID=Europe/Berlin:20260321T164500
DTEND;TZID=Europe/Berlin:20260321T184500
LOCATION:ZŠ Okružní Zlín\, Okružní 4685 Zlín
SUMMARY:MCR-U14Z-1F: VSK Zlín-TJ Sokol Šlapanice
END:VEVENT
BEGIN:VEVENT
UID:36333735-6132-4432-a432-393938303732
DTSTAMP:20260421T153029Z
DESCRIPTION:6/16 TJ Slovácká Slavia U. Hradiště - VK Brno 2:0 (20\,20)
DTSTART;TZID=Europe/Berlin:20260321T164500
DTEND;TZID=Europe/Berlin:20260321T184500
LOCATION:Městská sportovní hala\, Stonky 860 Uherské Hradiště
SUMMARY:MCR-U14Z-1F: TJ Slovácká Slavia U. Hradiště-VK Brno
END:VEVENT
BEGIN:VEVENT
UID:61396335-6236-4162-a166-386533363037
DTSTAMP:20260421T153029Z
DESCRIPTION:7/17 TJ Sokol Šlapanice - VK Brno 2:0 (22\,8)
DTSTART;TZID=Europe/Berlin:20260322T090000
DTEND;TZID=Europe/Berlin:20260322T110000
LOCATION:ZŠ Na Zahrádkách \, Na Zahrádkách 1716 Šlapanice
SUMMARY:MCR-U14Z-1F: TJ Sokol Šlapanice-VK Brno
END:VEVENT
BEGIN:VEVENT
UID:66393639-6136-4038-a334-303534316435
DTSTAMP:20260421T153029Z
DESCRIPTION:7/18 VA MUNI SPORT Brno - Volejbal Vyškov 'Dívky' 0:2 (-24\,-11
 )
DTSTART;TZID=Europe/Berlin:20260322T090000
DTEND;TZID=Europe/Berlin:20260322T110000
LOCATION:Campus Brno - Hala míčových sportů - Fakulta Sportovní MUNI\, Kame
 nice 753 Brno - Bohunice
SUMMARY:MCR-U14Z-1F: VA MUNI SPORT Brno-Volejbal Vyškov 'Dívky'
END:VEVENT
BEGIN:VEVENT
UID:64646432-3563-4135-a233-376161393939
DTSTAMP:20260421T153029Z
DESCRIPTION:7/19 VSK Zlín - Volejbal Jihlava 0:2 (-22\,-23)
DTSTART;TZID=Europe/Berlin:20260322T090000
DTEND;TZID=Europe/Berlin:20260322T110000
LOCATION:ZŠ Okružní Zlín\, Okružní 4685 Zlín
SUMMARY:MCR-U14Z-1F: VSK Zlín-Volejbal Jihlava
END:VEVENT
BEGIN:VEVENT
UID:62613530-3038-4539-b165-653931313234
DTSTAMP:20260421T153029Z
DESCRIPTION:8/20 Volejbal Jihlava - TJ Sokol Šlapanice 2:0 (6\,7)
DTSTART;TZID=Europe/Berlin:20260322T103000
DTEND;TZID=Europe/Berlin:20260322T123000
LOCATION:ZŠ Jihlava Demlova\, Demlova 4178 Jihlava
SUMMARY:MCR-U14Z-1F: Volejbal Jihlava-TJ Sokol Šlapanice
END:VEVENT
BEGIN:VEVENT
UID:38643661-3930-4566-b066-663839643534
DTSTAMP:20260421T153029Z
DESCRIPTION:8/21 VA MUNI SPORT Brno - VK Znojmo - Přímětice 0:2 (-10\,-12)
DTSTART;TZID=Europe/Berlin:20260322T103000
DTEND;TZID=Europe/Berlin:20260322T123000
LOCATION:Campus Brno - Hala míčových sportů - Fakulta Sportovní MUNI\, Kame
 nice 753 Brno - Bohunice
SUMMARY:MCR-U14Z-1F: VA MUNI SPORT Brno-VK Znojmo - Přímětice
END:VEVENT
BEGIN:VEVENT
UID:36386433-6334-4763-a630-363232343937
DTSTAMP:20260421T153029Z
DESCRIPTION:8/22 TJ Slovácká Slavia U. Hradiště - Volejbal Vyškov 'Dívky' 0
 :2 (-11\,-22)
DTSTART;TZID=Europe/Berlin:20260322T103000
DTEND;TZID=Europe/Berlin:20260322T123000
LOCATION:Městská sportovní hala\, Stonky 860 Uherské Hradiště
SUMMARY:MCR-U14Z-1F: TJ Slovácká Slavia U. Hradiště-Volejbal Vyškov 'Dívky'
END:VEVENT
BEGIN:VEVENT
UID:32643864-3733-4664-a163-656431336638
DTSTAMP:20260421T153029Z
DESCRIPTION:9/23 VSK Zlín - VK Brno 2:0 (3\,12)
DTSTART;TZID=Europe/Berlin:20260322T133000
DTEND;TZID=Europe/Berlin:20260322T153000
LOCATION:ZŠ Okružní Zlín\, Okružní 4685 Zlín
SUMMARY:MCR-U14Z-1F: VSK Zlín-VK Brno
END:VEVENT
BEGIN:VEVENT
UID:34303334-3465-4164-b938-336665393136
DTSTAMP:20260421T153029Z
DESCRIPTION:9/24 TJ Slovácká Slavia U. Hradiště - VK Znojmo - Přímětice 0:2
  (-13\,-18)
DTSTART;TZID=Europe/Berlin:20260322T133000
DTEND;TZID=Europe/Berlin:20260322T153000
LOCATION:Městská sportovní hala\, Stonky 860 Uherské Hradiště
SUMMARY:MCR-U14Z-1F: TJ Slovácká Slavia U. Hradiště-VK Znojmo - Přímětice
END:VEVENT
BEGIN:VEVENT
UID:34663537-3263-4336-b031-623433346162
DTSTAMP:20260421T153029Z
DESCRIPTION:9/25 Volejbal Jihlava - Volejbal Vyškov 'Dívky' 2:0 (8\,17)
DTSTART;TZID=Europe/Berlin:20260322T133000
DTEND;TZID=Europe/Berlin:20260322T153000
LOCATION:ZŠ Jihlava Demlova\, Demlova 4178 Jihlava
SUMMARY:MCR-U14Z-1F: Volejbal Jihlava-Volejbal Vyškov 'Dívky'
END:VEVENT
BEGIN:VEVENT
UID:62653036-6437-4137-b931-386165643062
DTSTAMP:20260421T153029Z
DESCRIPTION:10/26 VSK Zlín - TJ Slovácká Slavia U. Hradiště 2:0 (18\,17)
DTSTART;TZID=Europe/Berlin:20260322T144500
DTEND;TZID=Europe/Berlin:20260322T164500
LOCATION:ZŠ Okružní Zlín\, Okružní 4685 Zlín
SUMMARY:MCR-U14Z-1F: VSK Zlín-TJ Slovácká Slavia U. Hradiště
END:VEVENT
BEGIN:VEVENT
UID:62326630-3066-4138-a166-373230316439
DTSTAMP:20260421T153029Z
DESCRIPTION:10/27 VA MUNI SPORT Brno - VK Brno 2:1 (-23\,13\,4)
DTSTART;TZID=Europe/Berlin:20260322T144500
DTEND;TZID=Europe/Berlin:20260322T164500
LOCATION:Campus Brno - Hala míčových sportů - Fakulta Sportovní MUNI\, Kame
 nice 753 Brno - Bohunice
SUMMARY:MCR-U14Z-1F: VA MUNI SPORT Brno-VK Brno
END:VEVENT
BEGIN:VEVENT
UID:66313331-6430-4830-a166-653265616161
DTSTAMP:20260421T153029Z
DESCRIPTION:10/28 VK Znojmo - Přímětice - TJ Sokol Šlapanice 2:0 (12\,9)
DTSTART;TZID=Europe/Berlin:20260322T144500
DTEND;TZID=Europe/Berlin:20260322T164500
LOCATION:Tělocvična ZŠ Prokopa Diviše a MŠ\, Ke Škole 569 Znojmo - Přímětic
 e
SUMMARY:MCR-U14Z-1F: VK Znojmo - Přímětice-TJ Sokol Šlapanice
END:VEVENT
END:VCALENDAR
