BEGIN:VCALENDAR
VERSION:2.0
PRODID:-//MCR-U14Z-1G//NONSGML kigkonsult.se iCalcreator 2.41.80//
CALSCALE:GREGORIAN
UID:30373863-3937-4766-b863-383038333032
BEGIN:VEVENT
UID:63643165-3039-4631-b264-333136623738
DTSTAMP:20260421T165829Z
DESCRIPTION:1/1 Loko Plzeň  A U14 - VK Jirkov 2:0 (12\,10)
DTSTART;TZID=Europe/Berlin:20260321T100000
DTEND;TZID=Europe/Berlin:20260321T120000
LOCATION:Městská sportovní hala  -  hala 2\, Úslavská 2357 Plzeň - Východní
  Předměstí
SUMMARY:MCR-U14Z-1G: Loko Plzeň  A U14-VK Jirkov
END:VEVENT
BEGIN:VEVENT
UID:39643335-3236-4565-b639-663839383665
DTSTAMP:20260421T165829Z
DESCRIPTION:1/2 VK Sever Žatec - H. Počernice 2:0 (11\,10)
DTSTART;TZID=Europe/Berlin:20260321T100000
DTEND;TZID=Europe/Berlin:20260321T120000
LOCATION:TJ Sever Žatec Žatec\, Plzeňská 2787
SUMMARY:MCR-U14Z-1G: VK Sever Žatec-H. Počernice
END:VEVENT
BEGIN:VEVENT
UID:64363061-6162-4637-b137-343432383765
DTSTAMP:20260421T165829Z
DESCRIPTION:1/3 Madeta Jihostroj ČB - PVK Olymp Praha 0:2 (-8\,-12)
DTSTART;TZID=Europe/Berlin:20260321T100000
DTEND;TZID=Europe/Berlin:20260321T120000
LOCATION:Sportovní hala\, Stromovka 1216 České Budějovice - České Budějovic
 e 2
SUMMARY:MCR-U14Z-1G: Madeta Jihostroj ČB-PVK Olymp Praha
END:VEVENT
BEGIN:VEVENT
UID:35343531-6630-4062-b862-393930613639
DTSTAMP:20260421T165829Z
DESCRIPTION:1/4 Hořovice - Benátky nad Jizerou B 2:1 (22\,-21\,9)
DTSTART;TZID=Europe/Berlin:20260321T100000
DTEND;TZID=Europe/Berlin:20260321T120000
LOCATION:Sportovní hala\, Ke Stadionu 1385 Hořovice
SUMMARY:MCR-U14Z-1G: Hořovice-Benátky nad Jizerou B
END:VEVENT
BEGIN:VEVENT
UID:30353432-3061-4534-b038-653762373537
DTSTAMP:20260421T165829Z
DESCRIPTION:2/5 Loko Plzeň  A U14 - VK Sever Žatec 2:1 (-12\,16\,5)
DTSTART;TZID=Europe/Berlin:20260321T124000
DTEND;TZID=Europe/Berlin:20260321T144000
LOCATION:Městská sportovní hala  -  hala 2\, Úslavská 2357 Plzeň - Východní
  Předměstí
SUMMARY:MCR-U14Z-1G: Loko Plzeň  A U14-VK Sever Žatec
END:VEVENT
BEGIN:VEVENT
UID:36353337-3034-4336-b265-333735333438
DTSTAMP:20260421T165829Z
DESCRIPTION:2/6 VK Jirkov - H. Počernice 0:2 (-14\,-16)
DTSTART;TZID=Europe/Berlin:20260321T124000
DTEND;TZID=Europe/Berlin:20260321T144000
LOCATION:sportovní hala MGZŠ Krušnohorská Jirkov Jirkov\, Krušnohorská 1675
SUMMARY:MCR-U14Z-1G: VK Jirkov-H. Počernice
END:VEVENT
BEGIN:VEVENT
UID:32343439-3733-4234-b365-383465373265
DTSTAMP:20260421T165829Z
DESCRIPTION:2/7 Madeta Jihostroj ČB - Hořovice 0:2 (-19\,-22)
DTSTART;TZID=Europe/Berlin:20260321T124000
DTEND;TZID=Europe/Berlin:20260321T144000
LOCATION:Sportovní hala\, Stromovka 1216 České Budějovice - České Budějovic
 e 2
SUMMARY:MCR-U14Z-1G: Madeta Jihostroj ČB-Hořovice
END:VEVENT
BEGIN:VEVENT
UID:62376462-3564-4162-b361-633762336330
DTSTAMP:20260421T165829Z
DESCRIPTION:2/8 PVK Olymp Praha - Benátky nad Jizerou B 2:0 (3\,5)
DTSTART;TZID=Europe/Berlin:20260321T124000
DTEND;TZID=Europe/Berlin:20260321T144000
LOCATION:VCM OLYMP PRAHA \, Radlická 115 Praha - Radlice
SUMMARY:MCR-U14Z-1G: PVK Olymp Praha-Benátky nad Jizerou B
END:VEVENT
BEGIN:VEVENT
UID:64326338-3830-4161-b230-656665353531
DTSTAMP:20260421T165829Z
DESCRIPTION:3/9 Loko Plzeň  A U14 - H. Počernice 2:0 (20\,18)
DTSTART;TZID=Europe/Berlin:20260321T150000
DTEND;TZID=Europe/Berlin:20260321T170000
LOCATION:Městská sportovní hala  -  hala 2\, Úslavská 2357 Plzeň - Východní
  Předměstí
SUMMARY:MCR-U14Z-1G: Loko Plzeň  A U14-H. Počernice
END:VEVENT
BEGIN:VEVENT
UID:36376461-6562-4465-b165-373930303363
DTSTAMP:20260421T165829Z
DESCRIPTION:3/10 VK Jirkov - VK Sever Žatec 0:2 (-4\,-17)
DTSTART;TZID=Europe/Berlin:20260321T150000
DTEND;TZID=Europe/Berlin:20260321T170000
LOCATION:sportovní hala MGZŠ Krušnohorská Jirkov Jirkov\, Krušnohorská 1675
SUMMARY:MCR-U14Z-1G: VK Jirkov-VK Sever Žatec
END:VEVENT
BEGIN:VEVENT
UID:35396533-3835-4165-a339-623037663666
DTSTAMP:20260421T165829Z
DESCRIPTION:3/11 Madeta Jihostroj ČB - Benátky nad Jizerou B 2:0 (22\,13)
DTSTART;TZID=Europe/Berlin:20260321T150000
DTEND;TZID=Europe/Berlin:20260321T170000
LOCATION:Sportovní hala\, Stromovka 1216 České Budějovice - České Budějovic
 e 2
SUMMARY:MCR-U14Z-1G: Madeta Jihostroj ČB-Benátky nad Jizerou B
END:VEVENT
BEGIN:VEVENT
UID:64363562-3863-4565-b064-643462366631
DTSTAMP:20260421T165829Z
DESCRIPTION:3/12 PVK Olymp Praha - Hořovice 2:0 (2\,11)
DTSTART;TZID=Europe/Berlin:20260321T150000
DTEND;TZID=Europe/Berlin:20260321T170000
LOCATION:VCM OLYMP PRAHA \, Radlická 115 Praha - Radlice
SUMMARY:MCR-U14Z-1G: PVK Olymp Praha-Hořovice
END:VEVENT
BEGIN:VEVENT
UID:63386164-3036-4561-b264-303261396466
DTSTAMP:20260421T165829Z
DESCRIPTION:4/13 Loko Plzeň  A U14 - PVK Olymp Praha 2:0 (22\,22)
DTSTART;TZID=Europe/Berlin:20260321T172000
DTEND;TZID=Europe/Berlin:20260321T192000
LOCATION:Městská sportovní hala  -  hala 2\, Úslavská 2357 Plzeň - Východní
  Předměstí
SUMMARY:MCR-U14Z-1G: Loko Plzeň  A U14-PVK Olymp Praha
END:VEVENT
BEGIN:VEVENT
UID:31316636-6438-4636-b563-333434636164
DTSTAMP:20260421T165829Z
DESCRIPTION:4/14 VK Jirkov - Madeta Jihostroj ČB 1:2 (13\,-14\,-8)
DTSTART;TZID=Europe/Berlin:20260321T172000
DTEND;TZID=Europe/Berlin:20260321T192000
LOCATION:sportovní hala MGZŠ Krušnohorská Jirkov Jirkov\, Krušnohorská 1675
SUMMARY:MCR-U14Z-1G: VK Jirkov-Madeta Jihostroj ČB
END:VEVENT
BEGIN:VEVENT
UID:65656564-6539-4134-a366-343064326436
DTSTAMP:20260421T165829Z
DESCRIPTION:4/15 VK Sever Žatec - Benátky nad Jizerou B 2:0 (6\,10)
DTSTART;TZID=Europe/Berlin:20260321T172000
DTEND;TZID=Europe/Berlin:20260321T192000
LOCATION:TJ Sever Žatec Žatec\, Plzeňská 2787
SUMMARY:MCR-U14Z-1G: VK Sever Žatec-Benátky nad Jizerou B
END:VEVENT
BEGIN:VEVENT
UID:61373239-6331-4437-b863-653366323137
DTSTAMP:20260421T165829Z
DESCRIPTION:4/16 H. Počernice - Hořovice 0:2 (-20\,-22)
DTSTART;TZID=Europe/Berlin:20260321T172000
DTEND;TZID=Europe/Berlin:20260321T192000
LOCATION:Sportovní hala Horní Počernice TěloCvič!\, Jívanská 3226 Praha - H
 orní Počernice
SUMMARY:MCR-U14Z-1G: H. Počernice-Hořovice
END:VEVENT
BEGIN:VEVENT
UID:34323032-3466-4533-a636-613630376666
DTSTAMP:20260421T165829Z
DESCRIPTION:5/17 Loko Plzeň  A U14 - Madeta Jihostroj ČB 2:0 (7\,12)
DTSTART;TZID=Europe/Berlin:20260322T103000
DTEND;TZID=Europe/Berlin:20260322T123000
LOCATION:Městská sportovní hala  -  hala 2\, Úslavská 2357 Plzeň - Východní
  Předměstí
SUMMARY:MCR-U14Z-1G: Loko Plzeň  A U14-Madeta Jihostroj ČB
END:VEVENT
BEGIN:VEVENT
UID:32383738-6538-4332-b163-393935346433
DTSTAMP:20260421T165829Z
DESCRIPTION:5/18 VK Jirkov - PVK Olymp Praha 0:2 (-19\,-15)
DTSTART;TZID=Europe/Berlin:20260322T103000
DTEND;TZID=Europe/Berlin:20260322T123000
LOCATION:sportovní hala MGZŠ Krušnohorská Jirkov Jirkov\, Krušnohorská 1675
SUMMARY:MCR-U14Z-1G: VK Jirkov-PVK Olymp Praha
END:VEVENT
BEGIN:VEVENT
UID:65346437-3961-4464-b830-666231323166
DTSTAMP:20260421T165829Z
DESCRIPTION:5/19 VK Sever Žatec - Hořovice 2:0 (13\,13)
DTSTART;TZID=Europe/Berlin:20260322T103000
DTEND;TZID=Europe/Berlin:20260322T123000
LOCATION:TJ Sever Žatec Žatec\, Plzeňská 2787
SUMMARY:MCR-U14Z-1G: VK Sever Žatec-Hořovice
END:VEVENT
BEGIN:VEVENT
UID:65383138-6462-4531-a265-656161626535
DTSTAMP:20260421T165829Z
DESCRIPTION:5/20 H. Počernice - Benátky nad Jizerou B 2:0 (17\,25)
DTSTART;TZID=Europe/Berlin:20260322T103000
DTEND;TZID=Europe/Berlin:20260322T123000
LOCATION:Sportovní hala Horní Počernice TěloCvič!\, Jívanská 3226 Praha - H
 orní Počernice
SUMMARY:MCR-U14Z-1G: H. Počernice-Benátky nad Jizerou B
END:VEVENT
BEGIN:VEVENT
UID:37356531-3764-4432-a138-386633316365
DTSTAMP:20260421T165829Z
DESCRIPTION:6/21 Loko Plzeň  A U14 - Hořovice 2:0 (8\,16)
DTSTART;TZID=Europe/Berlin:20260322T125000
DTEND;TZID=Europe/Berlin:20260322T145000
LOCATION:Městská sportovní hala  -  hala 2\, Úslavská 2357 Plzeň - Východní
  Předměstí
SUMMARY:MCR-U14Z-1G: Loko Plzeň  A U14-Hořovice
END:VEVENT
BEGIN:VEVENT
UID:64366134-6463-4332-b864-666330393535
DTSTAMP:20260421T165829Z
DESCRIPTION:6/22 VK Jirkov - Benátky nad Jizerou B 2:1 (17\,-26\,12)
DTSTART;TZID=Europe/Berlin:20260322T125000
DTEND;TZID=Europe/Berlin:20260322T145000
LOCATION:sportovní hala MGZŠ Krušnohorská Jirkov Jirkov\, Krušnohorská 1675
SUMMARY:MCR-U14Z-1G: VK Jirkov-Benátky nad Jizerou B
END:VEVENT
BEGIN:VEVENT
UID:33386637-3930-4337-b932-363931643836
DTSTAMP:20260421T165829Z
DESCRIPTION:6/23 VK Sever Žatec - Madeta Jihostroj ČB 2:0 (16\,12)
DTSTART;TZID=Europe/Berlin:20260322T125000
DTEND;TZID=Europe/Berlin:20260322T145000
LOCATION:TJ Sever Žatec Žatec\, Plzeňská 2787
SUMMARY:MCR-U14Z-1G: VK Sever Žatec-Madeta Jihostroj ČB
END:VEVENT
BEGIN:VEVENT
UID:38373637-3037-4830-b365-363333353066
DTSTAMP:20260421T165829Z
DESCRIPTION:6/24 H. Počernice - PVK Olymp Praha 0:2 (-15\,-13)
DTSTART;TZID=Europe/Berlin:20260322T125000
DTEND;TZID=Europe/Berlin:20260322T145000
LOCATION:Sportovní hala Horní Počernice TěloCvič!\, Jívanská 3226 Praha - H
 orní Počernice
SUMMARY:MCR-U14Z-1G: H. Počernice-PVK Olymp Praha
END:VEVENT
BEGIN:VEVENT
UID:33376135-3737-4661-b331-336335393738
DTSTAMP:20260421T165829Z
DESCRIPTION:7/25 Loko Plzeň  A U14 - Benátky nad Jizerou B 2:0 (8\,17)
DTSTART;TZID=Europe/Berlin:20260322T151000
DTEND;TZID=Europe/Berlin:20260322T171000
LOCATION:Městská sportovní hala  -  hala 2\, Úslavská 2357 Plzeň - Východní
  Předměstí
SUMMARY:MCR-U14Z-1G: Loko Plzeň  A U14-Benátky nad Jizerou B
END:VEVENT
BEGIN:VEVENT
UID:30303733-6631-4539-a638-343032363361
DTSTAMP:20260421T165829Z
DESCRIPTION:7/26 VK Jirkov - Hořovice 0:2 (-14\,-17)
DTSTART;TZID=Europe/Berlin:20260322T151000
DTEND;TZID=Europe/Berlin:20260322T171000
LOCATION:sportovní hala MGZŠ Krušnohorská Jirkov Jirkov\, Krušnohorská 1675
SUMMARY:MCR-U14Z-1G: VK Jirkov-Hořovice
END:VEVENT
BEGIN:VEVENT
UID:39376237-3238-4961-a135-666534653263
DTSTAMP:20260421T165829Z
DESCRIPTION:7/27 VK Sever Žatec - PVK Olymp Praha 0:2 (-11\,-13)
DTSTART;TZID=Europe/Berlin:20260322T151000
DTEND;TZID=Europe/Berlin:20260322T171000
LOCATION:TJ Sever Žatec Žatec\, Plzeňská 2787
SUMMARY:MCR-U14Z-1G: VK Sever Žatec-PVK Olymp Praha
END:VEVENT
BEGIN:VEVENT
UID:62616138-3631-4961-b631-626663306163
DTSTAMP:20260421T165829Z
DESCRIPTION:7/28 H. Počernice - Madeta Jihostroj ČB 2:0 (15\,20)
DTSTART;TZID=Europe/Berlin:20260322T151000
DTEND;TZID=Europe/Berlin:20260322T171000
LOCATION:Sportovní hala Horní Počernice TěloCvič!\, Jívanská 3226 Praha - H
 orní Počernice
SUMMARY:MCR-U14Z-1G: H. Počernice-Madeta Jihostroj ČB
END:VEVENT
END:VCALENDAR
