BEGIN:VCALENDAR
VERSION:2.0
PRODID:-//PA-U22M-6E//NONSGML kigkonsult.se iCalcreator 2.41.80//
CALSCALE:GREGORIAN
UID:33666631-3839-4363-a664-343131643736
BEGIN:VEVENT
UID:65303739-3366-4030-b138-643830373738
DTSTAMP:20260425T191145Z
DESCRIPTION:1/1 VK DK - Choceň U20 2:3 (-17\,23\,-23\,20\,-9)
DTSTART;TZID=Europe/Berlin:20260307T090000
DTEND;TZID=Europe/Berlin:20260307T110000
LOCATION:Hala ZŠ Strž\, Elišky Krásnohorské 2919 Dvůr Králové nad Labem
SUMMARY:PA-U22M-6E: VK DK-Choceň U20
END:VEVENT
BEGIN:VEVENT
UID:65653634-3438-4363-a433-376431303865
DTSTAMP:20260425T191145Z
DESCRIPTION:1/2 Litomyšl U20 - Choceň U20 1:3 (-15\,23\,-21\,-20)
DTSTART;TZID=Europe/Berlin:20260307T110000
DTEND;TZID=Europe/Berlin:20260307T130000
LOCATION:Městská sportovní hala\, T. G. Masaryka 1145 Litomyšl - Litomyšl-M
 ěsto
SUMMARY:PA-U22M-6E: Litomyšl U20-Choceň U20
END:VEVENT
BEGIN:VEVENT
UID:34633236-3364-4861-b835-393135376662
DTSTAMP:20260425T191145Z
DESCRIPTION:1/3 VK DK - Litomyšl U20 0:3 (-13\,-18\,-20)
DTSTART;TZID=Europe/Berlin:20260307T130000
DTEND;TZID=Europe/Berlin:20260307T150000
LOCATION:Hala ZŠ Strž\, Elišky Krásnohorské 2919 Dvůr Králové nad Labem
SUMMARY:PA-U22M-6E: VK DK-Litomyšl U20
END:VEVENT
END:VCALENDAR
