BEGIN:VCALENDAR
VERSION:2.0
PRODID:-//MCR-U14Z-1L//NONSGML kigkonsult.se iCalcreator 2.41.80//
CALSCALE:GREGORIAN
UID:64316239-6436-4632-b665-373435653939
BEGIN:VEVENT
UID:64663738-3239-4132-b263-376266356130
DTSTAMP:20260421T153028Z
DESCRIPTION:1/1 VK Prostějov A - VK Prostějov B 2:0 (7\,7)
DTSTART;TZID=Europe/Berlin:20260320T173000
DTEND;TZID=Europe/Berlin:20260320T193000
LOCATION:Národní sportovní centrum\, Za velodromem 4187 Prostějov
SUMMARY:MCR-U14Z-1L: VK Prostějov A-VK Prostějov B
END:VEVENT
BEGIN:VEVENT
UID:33323236-3966-4961-b938-323339313330
DTSTAMP:20260421T153028Z
DESCRIPTION:2/2 VK Prostějov A - KP Brno 2:1 (-22\,23\,9)
DTSTART;TZID=Europe/Berlin:20260321T104500
DTEND;TZID=Europe/Berlin:20260321T124500
LOCATION:Národní sportovní centrum\, Za velodromem 4187 Prostějov
SUMMARY:MCR-U14Z-1L: VK Prostějov A-KP Brno
END:VEVENT
BEGIN:VEVENT
UID:37353839-6630-4333-a561-383036623336
DTSTAMP:20260421T153028Z
DESCRIPTION:2/3 TJ Frenštát p/R - Volejbal Ostrava 2:0 (20\,17)
DTSTART;TZID=Europe/Berlin:20260321T104500
DTEND;TZID=Europe/Berlin:20260321T124500
LOCATION:Národní sportovní centrum\, Za velodromem 4187 Prostějov
SUMMARY:MCR-U14Z-1L: TJ Frenštát p/R-Volejbal Ostrava
END:VEVENT
BEGIN:VEVENT
UID:39383064-3533-4262-b364-376562376162
DTSTAMP:20260421T153028Z
DESCRIPTION:2/4 VK Prostějov B - VK Rousínov 0:2 (-24\,-21)
DTSTART;TZID=Europe/Berlin:20260321T104500
DTEND;TZID=Europe/Berlin:20260321T124500
LOCATION:Národní sportovní centrum\, Za velodromem 4187 Prostějov
SUMMARY:MCR-U14Z-1L: VK Prostějov B-VK Rousínov
END:VEVENT
BEGIN:VEVENT
UID:62646263-6561-4661-b031-653463383637
DTSTAMP:20260421T153028Z
DESCRIPTION:3/5 VK Prostějov A - Volejbal Ostrava 2:0 (6\,8)
DTSTART;TZID=Europe/Berlin:20260321T120000
DTEND;TZID=Europe/Berlin:20260321T140000
LOCATION:Národní sportovní centrum\, Za velodromem 4187 Prostějov
SUMMARY:MCR-U14Z-1L: VK Prostějov A-Volejbal Ostrava
END:VEVENT
BEGIN:VEVENT
UID:31613666-3364-4330-b230-313132313666
DTSTAMP:20260421T153028Z
DESCRIPTION:3/6 TJ Svitavy - VAM Olomouc 2:1 (-23\,11\,7)
DTSTART;TZID=Europe/Berlin:20260321T120000
DTEND;TZID=Europe/Berlin:20260321T140000
LOCATION:Národní sportovní centrum\, Za velodromem 4187 Prostějov
SUMMARY:MCR-U14Z-1L: TJ Svitavy-VAM Olomouc
END:VEVENT
BEGIN:VEVENT
UID:65373761-6337-4132-b637-363764383565
DTSTAMP:20260421T153028Z
DESCRIPTION:3/7 VK Rousínov - KP Brno 0:2 (-19\,-16)
DTSTART;TZID=Europe/Berlin:20260321T120000
DTEND;TZID=Europe/Berlin:20260321T140000
LOCATION:Národní sportovní centrum\, Za velodromem 4187 Prostějov
SUMMARY:MCR-U14Z-1L: VK Rousínov-KP Brno
END:VEVENT
BEGIN:VEVENT
UID:36393238-3762-4538-b732-316163643966
DTSTAMP:20260421T153028Z
DESCRIPTION:4/8 TJ Frenštát p/R - TJ Svitavy 0:2 (-13\,-19)
DTSTART;TZID=Europe/Berlin:20260321T131500
DTEND;TZID=Europe/Berlin:20260321T151500
LOCATION:Národní sportovní centrum\, Za velodromem 4187 Prostějov
SUMMARY:MCR-U14Z-1L: TJ Frenštát p/R-TJ Svitavy
END:VEVENT
BEGIN:VEVENT
UID:32353763-3531-4364-a238-643639343166
DTSTAMP:20260421T153028Z
DESCRIPTION:4/9 Volejbal Ostrava - KP Brno 0:2 (-13\,-24)
DTSTART;TZID=Europe/Berlin:20260321T131500
DTEND;TZID=Europe/Berlin:20260321T151500
LOCATION:Národní sportovní centrum\, Za velodromem 4187 Prostějov
SUMMARY:MCR-U14Z-1L: Volejbal Ostrava-KP Brno
END:VEVENT
BEGIN:VEVENT
UID:66336231-6165-4132-b566-323866323439
DTSTAMP:20260421T153028Z
DESCRIPTION:4/10 VK Prostějov B - VAM Olomouc 0:2 (-19\,-15)
DTSTART;TZID=Europe/Berlin:20260321T131500
DTEND;TZID=Europe/Berlin:20260321T151500
LOCATION:Národní sportovní centrum\, Za velodromem 4187 Prostějov
SUMMARY:MCR-U14Z-1L: VK Prostějov B-VAM Olomouc
END:VEVENT
BEGIN:VEVENT
UID:30326665-3232-4733-b461-633333646264
DTSTAMP:20260421T153028Z
DESCRIPTION:5/11 VK Prostějov A - TJ Svitavy 2:0 (10\,17)
DTSTART;TZID=Europe/Berlin:20260321T143000
DTEND;TZID=Europe/Berlin:20260321T163000
LOCATION:Národní sportovní centrum\, Za velodromem 4187 Prostějov
SUMMARY:MCR-U14Z-1L: VK Prostějov A-TJ Svitavy
END:VEVENT
BEGIN:VEVENT
UID:34353233-6635-4266-b330-376162623932
DTSTAMP:20260421T153028Z
DESCRIPTION:5/12 VK Rousínov - VAM Olomouc 0:2 (-14\,-11)
DTSTART;TZID=Europe/Berlin:20260321T143000
DTEND;TZID=Europe/Berlin:20260321T163000
LOCATION:Národní sportovní centrum\, Za velodromem 4187 Prostějov
SUMMARY:MCR-U14Z-1L: VK Rousínov-VAM Olomouc
END:VEVENT
BEGIN:VEVENT
UID:33316135-3461-4339-b037-396235656365
DTSTAMP:20260421T153028Z
DESCRIPTION:5/13 VK Prostějov B - TJ Frenštát p/R 0:2 (-22\,-23)
DTSTART;TZID=Europe/Berlin:20260321T143000
DTEND;TZID=Europe/Berlin:20260321T163000
LOCATION:Národní sportovní centrum\, Za velodromem 4187 Prostějov
SUMMARY:MCR-U14Z-1L: VK Prostějov B-TJ Frenštát p/R
END:VEVENT
BEGIN:VEVENT
UID:39346566-3263-4534-b232-376439333365
DTSTAMP:20260421T153028Z
DESCRIPTION:6/14 VAM Olomouc - KP Brno 1:2 (19\,-9\,-7)
DTSTART;TZID=Europe/Berlin:20260321T154500
DTEND;TZID=Europe/Berlin:20260321T174500
LOCATION:Národní sportovní centrum\, Za velodromem 4187 Prostějov
SUMMARY:MCR-U14Z-1L: VAM Olomouc-KP Brno
END:VEVENT
BEGIN:VEVENT
UID:33396264-3135-4431-b539-306166383632
DTSTAMP:20260421T153028Z
DESCRIPTION:6/15 Volejbal Ostrava - TJ Svitavy 0:2 (-6\,-12)
DTSTART;TZID=Europe/Berlin:20260321T154500
DTEND;TZID=Europe/Berlin:20260321T174500
LOCATION:Národní sportovní centrum\, Za velodromem 4187 Prostějov
SUMMARY:MCR-U14Z-1L: Volejbal Ostrava-TJ Svitavy
END:VEVENT
BEGIN:VEVENT
UID:32363737-6430-4563-a662-613831633038
DTSTAMP:20260421T153028Z
DESCRIPTION:6/16 VK Rousínov - TJ Frenštát p/R 0:2 (-8\,-15)
DTSTART;TZID=Europe/Berlin:20260321T154500
DTEND;TZID=Europe/Berlin:20260321T174500
LOCATION:Národní sportovní centrum\, Za velodromem 4187 Prostějov
SUMMARY:MCR-U14Z-1L: VK Rousínov-TJ Frenštát p/R
END:VEVENT
BEGIN:VEVENT
UID:38336430-3535-4130-b863-356263323932
DTSTAMP:20260421T153028Z
DESCRIPTION:7/17 VK Rousínov - VK Prostějov A 0:2 (-12\,-9)
DTSTART;TZID=Europe/Berlin:20260322T090000
DTEND;TZID=Europe/Berlin:20260322T110000
LOCATION:Národní sportovní centrum\, Za velodromem 4187 Prostějov
SUMMARY:MCR-U14Z-1L: VK Rousínov-VK Prostějov A
END:VEVENT
BEGIN:VEVENT
UID:38613966-3564-4136-a463-343535653637
DTSTAMP:20260421T153028Z
DESCRIPTION:7/18 VAM Olomouc - TJ Frenštát p/R 2:1 (-21\,15\,9)
DTSTART;TZID=Europe/Berlin:20260322T090000
DTEND;TZID=Europe/Berlin:20260322T110000
LOCATION:Národní sportovní centrum\, Za velodromem 4187 Prostějov
SUMMARY:MCR-U14Z-1L: VAM Olomouc-TJ Frenštát p/R
END:VEVENT
BEGIN:VEVENT
UID:35353166-6564-4663-b035-613561353839
DTSTAMP:20260421T153028Z
DESCRIPTION:7/19 Volejbal Ostrava - VK Prostějov B 0:2 (-17\,-20)
DTSTART;TZID=Europe/Berlin:20260322T090000
DTEND;TZID=Europe/Berlin:20260322T110000
LOCATION:Národní sportovní centrum\, Za velodromem 4187 Prostějov
SUMMARY:MCR-U14Z-1L: Volejbal Ostrava-VK Prostějov B
END:VEVENT
BEGIN:VEVENT
UID:64663065-6637-4835-b262-323663343337
DTSTAMP:20260421T153028Z
DESCRIPTION:8/20 VAM Olomouc - VK Prostějov A 1:2 (-23\,19\,-11)
DTSTART;TZID=Europe/Berlin:20260322T101500
DTEND;TZID=Europe/Berlin:20260322T121500
LOCATION:Národní sportovní centrum\, Za velodromem 4187 Prostějov
SUMMARY:MCR-U14Z-1L: VAM Olomouc-VK Prostějov A
END:VEVENT
BEGIN:VEVENT
UID:66313037-3535-4263-a366-616137383934
DTSTAMP:20260421T153028Z
DESCRIPTION:8/21 TJ Svitavy - KP Brno 2:0 (21\,20)
DTSTART;TZID=Europe/Berlin:20260322T101500
DTEND;TZID=Europe/Berlin:20260322T121500
LOCATION:Národní sportovní centrum\, Za velodromem 4187 Prostějov
SUMMARY:MCR-U14Z-1L: TJ Svitavy-KP Brno
END:VEVENT
BEGIN:VEVENT
UID:63366661-6261-4462-a563-653431663266
DTSTAMP:20260421T153028Z
DESCRIPTION:8/22 Volejbal Ostrava - VK Rousínov 2:1 (20\,-20\,11)
DTSTART;TZID=Europe/Berlin:20260322T101500
DTEND;TZID=Europe/Berlin:20260322T121500
LOCATION:Národní sportovní centrum\, Za velodromem 4187 Prostějov
SUMMARY:MCR-U14Z-1L: Volejbal Ostrava-VK Rousínov
END:VEVENT
BEGIN:VEVENT
UID:32393732-6563-4563-a264-663338646536
DTSTAMP:20260421T153028Z
DESCRIPTION:9/23 TJ Frenštát p/R - KP Brno 0:2 (-21\,-16)
DTSTART;TZID=Europe/Berlin:20260322T113000
DTEND;TZID=Europe/Berlin:20260322T133000
LOCATION:Národní sportovní centrum\, Za velodromem 4187 Prostějov
SUMMARY:MCR-U14Z-1L: TJ Frenštát p/R-KP Brno
END:VEVENT
BEGIN:VEVENT
UID:32663265-3362-4436-b534-393539656631
DTSTAMP:20260421T153028Z
DESCRIPTION:9/24 VAM Olomouc - Volejbal Ostrava 2:0 (11\,15)
DTSTART;TZID=Europe/Berlin:20260322T113000
DTEND;TZID=Europe/Berlin:20260322T133000
LOCATION:Národní sportovní centrum\, Za velodromem 4187 Prostějov
SUMMARY:MCR-U14Z-1L: VAM Olomouc-Volejbal Ostrava
END:VEVENT
BEGIN:VEVENT
UID:31616461-3037-4132-a536-363932393965
DTSTAMP:20260421T153028Z
DESCRIPTION:9/25 TJ Svitavy - VK Prostějov B 2:0 (16\,9)
DTSTART;TZID=Europe/Berlin:20260322T113000
DTEND;TZID=Europe/Berlin:20260322T133000
LOCATION:Národní sportovní centrum\, Za velodromem 4187 Prostějov
SUMMARY:MCR-U14Z-1L: TJ Svitavy-VK Prostějov B
END:VEVENT
BEGIN:VEVENT
UID:64626539-6634-4165-a332-336139363862
DTSTAMP:20260421T153028Z
DESCRIPTION:10/26 TJ Frenštát p/R - VK Prostějov A 0:2 (-12\,-11)
DTSTART;TZID=Europe/Berlin:20260322T124500
DTEND;TZID=Europe/Berlin:20260322T144500
LOCATION:Národní sportovní centrum\, Za velodromem 4187 Prostějov
SUMMARY:MCR-U14Z-1L: TJ Frenštát p/R-VK Prostějov A
END:VEVENT
BEGIN:VEVENT
UID:35393762-3032-4438-b631-393433343336
DTSTAMP:20260421T153028Z
DESCRIPTION:10/27 TJ Svitavy - VK Rousínov 2:0 (9\,19)
DTSTART;TZID=Europe/Berlin:20260322T124500
DTEND;TZID=Europe/Berlin:20260322T144500
LOCATION:Národní sportovní centrum\, Za velodromem 4187 Prostějov
SUMMARY:MCR-U14Z-1L: TJ Svitavy-VK Rousínov
END:VEVENT
BEGIN:VEVENT
UID:35343236-6263-4334-a537-333534663963
DTSTAMP:20260421T153028Z
DESCRIPTION:10/28 VK Prostějov B - KP Brno 0:2 (-21\,-16)
DTSTART;TZID=Europe/Berlin:20260322T124500
DTEND;TZID=Europe/Berlin:20260322T144500
LOCATION:Národní sportovní centrum\, Za velodromem 4187 Prostějov
SUMMARY:MCR-U14Z-1L: VK Prostějov B-KP Brno
END:VEVENT
END:VCALENDAR
