BEGIN:VCALENDAR
VERSION:2.0
PRODID:-//RKP-M-F5//NONSGML kigkonsult.se iCalcreator 2.41.80//
CALSCALE:GREGORIAN
UID:63383962-3635-4566-a365-353933333731
BEGIN:VEVENT
UID:61316532-3462-4336-b535-346161313631
DTSTAMP:20260425T185215Z
DESCRIPTION:1/1 Opočno - AMT KO 2:1 (-17\,22\,13)
DTSTART;TZID=Europe/Berlin:20260301T130000
DTEND;TZID=Europe/Berlin:20260301T150000
LOCATION:Sportovní hala R.Šebrleho\, Hrdinů odboje 36 Rychnov nad Kněžnou
SUMMARY:RKP-M-F5: Opočno-AMT KO
END:VEVENT
END:VCALENDAR
