BEGIN:VCALENDAR
VERSION:2.0
PRODID:-//MCR-U14MA//NONSGML kigkonsult.se iCalcreator 2.41.80//
CALSCALE:GREGORIAN
UID:66643433-3635-4165-b739-343662376264
BEGIN:VEVENT
UID:63313631-6536-4161-b634-343838346335
DTSTAMP:20260425T013950Z
DESCRIPTION:1/1 Klatovy - VK Karlovarsko\, z.s.
DTSTART;TZID=Europe/Berlin:20260425T100000
DTEND;TZID=Europe/Berlin:20260425T120000
LOCATION:ZŠ Oskara Nedbala České Budějovice\, O. Nedbala 882 České Budějovi
 ce - České Budějovice 2
SUMMARY:MCR-U14MA: Klatovy-VK Karlovarsko\, z.s.
END:VEVENT
BEGIN:VEVENT
UID:33353930-3538-4631-b161-316163636638
DTSTAMP:20260425T013950Z
DESCRIPTION:1/2 Jihostroj ČB - Český Krumlov
DTSTART;TZID=Europe/Berlin:20260425T100000
DTEND;TZID=Europe/Berlin:20260425T120000
LOCATION:ZŠ Oskara Nedbala České Budějovice\, O. Nedbala 882 České Budějovi
 ce - České Budějovice 2
SUMMARY:MCR-U14MA: Jihostroj ČB-Český Krumlov
END:VEVENT
BEGIN:VEVENT
UID:63613539-6162-4561-a265-653366373863
DTSTAMP:20260425T013950Z
DESCRIPTION:1/3 Volejbal Sokolov\, z.s. - Volejbal Aš - Klokani z.s.
DTSTART;TZID=Europe/Berlin:20260425T111500
DTEND;TZID=Europe/Berlin:20260425T131500
LOCATION:ZŠ Oskara Nedbala České Budějovice\, O. Nedbala 882 České Budějovi
 ce - České Budějovice 2
SUMMARY:MCR-U14MA: Volejbal Sokolov\, z.s.-Volejbal Aš - Klokani z.s.
END:VEVENT
BEGIN:VEVENT
UID:66393434-3465-4361-b966-626239626364
DTSTAMP:20260425T013950Z
DESCRIPTION:2/4 Český Krumlov - VK Karlovarsko\, z.s.
DTSTART;TZID=Europe/Berlin:20260425T111500
DTEND;TZID=Europe/Berlin:20260425T131500
LOCATION:ZŠ Oskara Nedbala České Budějovice\, O. Nedbala 882 České Budějovi
 ce - České Budějovice 2
SUMMARY:MCR-U14MA: Český Krumlov-VK Karlovarsko\, z.s.
END:VEVENT
BEGIN:VEVENT
UID:62346265-3832-4961-a634-316161326537
DTSTAMP:20260425T013950Z
DESCRIPTION:2/5 Klatovy - Volejbal Sokolov\, z.s.
DTSTART;TZID=Europe/Berlin:20260425T123000
DTEND;TZID=Europe/Berlin:20260425T143000
LOCATION:ZŠ Oskara Nedbala České Budějovice\, O. Nedbala 882 České Budějovi
 ce - České Budějovice 2
SUMMARY:MCR-U14MA: Klatovy-Volejbal Sokolov\, z.s.
END:VEVENT
BEGIN:VEVENT
UID:33616635-3339-4235-a531-346263323331
DTSTAMP:20260425T013950Z
DESCRIPTION:2/6 Volejbal Aš - Klokani z.s. - Jihostroj ČB
DTSTART;TZID=Europe/Berlin:20260425T123000
DTEND;TZID=Europe/Berlin:20260425T143000
LOCATION:ZŠ Oskara Nedbala České Budějovice\, O. Nedbala 882 České Budějovi
 ce - České Budějovice 2
SUMMARY:MCR-U14MA: Volejbal Aš - Klokani z.s.-Jihostroj ČB
END:VEVENT
BEGIN:VEVENT
UID:39663238-6264-4637-b763-313635656131
DTSTAMP:20260425T013950Z
DESCRIPTION:3/7 Český Krumlov - Volejbal Aš - Klokani z.s.
DTSTART;TZID=Europe/Berlin:20260425T134500
DTEND;TZID=Europe/Berlin:20260425T154500
LOCATION:ZŠ Oskara Nedbala České Budějovice\, O. Nedbala 882 České Budějovi
 ce - České Budějovice 2
SUMMARY:MCR-U14MA: Český Krumlov-Volejbal Aš - Klokani z.s.
END:VEVENT
BEGIN:VEVENT
UID:63323331-3665-4731-b237-376233323164
DTSTAMP:20260425T013950Z
DESCRIPTION:3/8 Klatovy - Jihostroj ČB
DTSTART;TZID=Europe/Berlin:20260425T134500
DTEND;TZID=Europe/Berlin:20260425T154500
LOCATION:ZŠ Oskara Nedbala České Budějovice\, O. Nedbala 882 České Budějovi
 ce - České Budějovice 2
SUMMARY:MCR-U14MA: Klatovy-Jihostroj ČB
END:VEVENT
BEGIN:VEVENT
UID:66356237-3632-4132-b730-626332663562
DTSTAMP:20260425T013950Z
DESCRIPTION:3/9 Volejbal Sokolov\, z.s. - VK Karlovarsko\, z.s.
DTSTART;TZID=Europe/Berlin:20260425T150000
DTEND;TZID=Europe/Berlin:20260425T170000
LOCATION:ZŠ Oskara Nedbala České Budějovice\, O. Nedbala 882 České Budějovi
 ce - České Budějovice 2
SUMMARY:MCR-U14MA: Volejbal Sokolov\, z.s.-VK Karlovarsko\, z.s.
END:VEVENT
BEGIN:VEVENT
UID:66376566-3336-4164-b038-366362313935
DTSTAMP:20260425T013950Z
DESCRIPTION:4/10 Klatovy - Volejbal Aš - Klokani z.s.
DTSTART;TZID=Europe/Berlin:20260425T150000
DTEND;TZID=Europe/Berlin:20260425T170000
LOCATION:ZŠ Oskara Nedbala České Budějovice\, O. Nedbala 882 České Budějovi
 ce - České Budějovice 2
SUMMARY:MCR-U14MA: Klatovy-Volejbal Aš - Klokani z.s.
END:VEVENT
BEGIN:VEVENT
UID:36336535-3163-4163-b261-333633323763
DTSTAMP:20260425T013950Z
DESCRIPTION:4/11 Český Krumlov - Volejbal Sokolov\, z.s.
DTSTART;TZID=Europe/Berlin:20260425T161500
DTEND;TZID=Europe/Berlin:20260425T181500
LOCATION:ZŠ Oskara Nedbala České Budějovice\, O. Nedbala 882 České Budějovi
 ce - České Budějovice 2
SUMMARY:MCR-U14MA: Český Krumlov-Volejbal Sokolov\, z.s.
END:VEVENT
BEGIN:VEVENT
UID:61323234-6438-4564-b864-313932613338
DTSTAMP:20260425T013950Z
DESCRIPTION:4/12 VK Karlovarsko\, z.s. - Jihostroj ČB
DTSTART;TZID=Europe/Berlin:20260425T161500
DTEND;TZID=Europe/Berlin:20260425T181500
LOCATION:ZŠ Oskara Nedbala České Budějovice\, O. Nedbala 882 České Budějovi
 ce - České Budějovice 2
SUMMARY:MCR-U14MA: VK Karlovarsko\, z.s.-Jihostroj ČB
END:VEVENT
BEGIN:VEVENT
UID:62633361-6336-4835-b266-633330373264
DTSTAMP:20260425T013950Z
DESCRIPTION:5/13 Český Krumlov - Klatovy
DTSTART;TZID=Europe/Berlin:20260425T173000
DTEND;TZID=Europe/Berlin:20260425T193000
LOCATION:ZŠ Oskara Nedbala České Budějovice\, O. Nedbala 882 České Budějovi
 ce - České Budějovice 2
SUMMARY:MCR-U14MA: Český Krumlov-Klatovy
END:VEVENT
BEGIN:VEVENT
UID:61343433-3830-4633-b465-323262623039
DTSTAMP:20260425T013950Z
DESCRIPTION:5/14 Volejbal Aš - Klokani z.s. - Jihostroj ČB
DTSTART;TZID=Europe/Berlin:20260425T173000
DTEND;TZID=Europe/Berlin:20260425T193000
LOCATION:ZŠ Oskara Nedbala České Budějovice\, O. Nedbala 882 České Budějovi
 ce - České Budějovice 2
SUMMARY:MCR-U14MA: Volejbal Aš - Klokani z.s.-Jihostroj ČB
END:VEVENT
BEGIN:VEVENT
UID:35306236-3236-4665-a532-633035636636
DTSTAMP:20260425T013950Z
DESCRIPTION:5/15 Jihostroj ČB - Volejbal Sokolov\, z.s.
DTSTART;TZID=Europe/Berlin:20260425T183000
DTEND;TZID=Europe/Berlin:20260425T203000
LOCATION:ZŠ Oskara Nedbala České Budějovice\, O. Nedbala 882 České Budějovi
 ce - České Budějovice 2
SUMMARY:MCR-U14MA: Jihostroj ČB-Volejbal Sokolov\, z.s.
END:VEVENT
END:VCALENDAR
