BEGIN:VCALENDAR
VERSION:2.0
PRODID:-//OLK-U16Z-8E//NONSGML kigkonsult.se iCalcreator 2.41.80//
CALSCALE:GREGORIAN
UID:39636265-6437-4536-b934-386239663430
BEGIN:VEVENT
UID:65363363-3661-4137-b038-363435613534
DTSTAMP:20260421T134427Z
DESCRIPTION:1/1 VSK Zábřeh - TJ Bohuňovice 2:0 (18\,15)
DTSTART;TZID=Europe/Berlin:20260412T090000
DTEND;TZID=Europe/Berlin:20260412T110000
LOCATION:Tělocvična při SŠ\, ZŠ\, MŠ a DD Zábřeh\, Sušilova 1912 Zábřeh
SUMMARY:OLK-U16Z-8E: VSK Zábřeh-TJ Bohuňovice
END:VEVENT
BEGIN:VEVENT
UID:33313136-6436-4166-b062-353661646335
DTSTAMP:20260421T134427Z
DESCRIPTION:2/2 Šternberk B - VK Olomouc D 0:2 (-19\,-17)
DTSTART;TZID=Europe/Berlin:20260412T100000
DTEND;TZID=Europe/Berlin:20260412T120000
LOCATION:Tělocvična při SŠ\, ZŠ\, MŠ a DD Zábřeh\, Sušilova 1912 Zábřeh
SUMMARY:OLK-U16Z-8E: Šternberk B-VK Olomouc D
END:VEVENT
BEGIN:VEVENT
UID:31613137-3762-4535-a261-393866346166
DTSTAMP:20260421T134427Z
DESCRIPTION:3/3 VK Olomouc D - TJ Bohuňovice 2:0 (11\,17)
DTSTART;TZID=Europe/Berlin:20260412T110000
DTEND;TZID=Europe/Berlin:20260412T130000
LOCATION:Tělocvična při SŠ\, ZŠ\, MŠ a DD Zábřeh\, Sušilova 1912 Zábřeh
SUMMARY:OLK-U16Z-8E: VK Olomouc D-TJ Bohuňovice
END:VEVENT
BEGIN:VEVENT
UID:64393537-3933-4235-b430-333635346465
DTSTAMP:20260421T134427Z
DESCRIPTION:4/4 VSK Zábřeh - Šternberk B 1:2 (-18\,24\,-12)
DTSTART;TZID=Europe/Berlin:20260412T120000
DTEND;TZID=Europe/Berlin:20260412T140000
LOCATION:Tělocvična při SŠ\, ZŠ\, MŠ a DD Zábřeh\, Sušilova 1912 Zábřeh
SUMMARY:OLK-U16Z-8E: VSK Zábřeh-Šternberk B
END:VEVENT
BEGIN:VEVENT
UID:39666435-3130-4736-b063-366263343531
DTSTAMP:20260421T134427Z
DESCRIPTION:5/5 TJ Bohuňovice - Šternberk B 1:2 (22\,-7\,-7)
DTSTART;TZID=Europe/Berlin:20260412T130000
DTEND;TZID=Europe/Berlin:20260412T150000
LOCATION:Tělocvična při SŠ\, ZŠ\, MŠ a DD Zábřeh\, Sušilova 1912 Zábřeh
SUMMARY:OLK-U16Z-8E: TJ Bohuňovice-Šternberk B
END:VEVENT
BEGIN:VEVENT
UID:63663730-3765-4433-b933-393237353735
DTSTAMP:20260421T134427Z
DESCRIPTION:6/6 VK Olomouc D - VSK Zábřeh 2:0 (20\,21)
DTSTART;TZID=Europe/Berlin:20260412T140000
DTEND;TZID=Europe/Berlin:20260412T160000
LOCATION:Tělocvična při SŠ\, ZŠ\, MŠ a DD Zábřeh\, Sušilova 1912 Zábřeh
SUMMARY:OLK-U16Z-8E: VK Olomouc D-VSK Zábřeh
END:VEVENT
END:VCALENDAR
