BEGIN:VCALENDAR
VERSION:2.0
PRODID:-//PP-U20Z-6-A//NONSGML kigkonsult.se iCalcreator 2.41.80//
CALSCALE:GREGORIAN
UID:31346236-3064-4930-b337-613430313131
BEGIN:VEVENT
UID:31393265-3032-4863-b134-333730663337
DTSTAMP:20260424T051354Z
DESCRIPTION:1/1 SK HAMR\, z.s. - SK Meteor Praha B 2:1 (-21\,20\,4)
DTSTART;TZID=Europe/Berlin:20260419T090000
DTEND;TZID=Europe/Berlin:20260419T110000
LOCATION:Sokol Bubeneč\, Korunovační 630 Praha - Bubeneč
SUMMARY:PP-U20Z-6-A: SK HAMR\, z.s.-SK Meteor Praha B
END:VEVENT
BEGIN:VEVENT
UID:30623137-6165-4931-a135-616438333034
DTSTAMP:20260424T051354Z
DESCRIPTION:2/2 Sokol HP - BVŠP Koráb 1:2 (23\,-12\,-9)
DTSTART;TZID=Europe/Berlin:20260419T100000
DTEND;TZID=Europe/Berlin:20260419T120000
LOCATION:Sokol Bubeneč\, Korunovační 630 Praha - Bubeneč
SUMMARY:PP-U20Z-6-A: Sokol HP-BVŠP Koráb
END:VEVENT
BEGIN:VEVENT
UID:66343261-3162-4465-b538-323437343937
DTSTAMP:20260424T051354Z
DESCRIPTION:3/3 SK Meteor Praha B - BVŠP Koráb 0:2 (-21\,-18)
DTSTART;TZID=Europe/Berlin:20260419T110000
DTEND;TZID=Europe/Berlin:20260419T130000
LOCATION:Sokol Bubeneč\, Korunovační 630 Praha - Bubeneč
SUMMARY:PP-U20Z-6-A: SK Meteor Praha B-BVŠP Koráb
END:VEVENT
BEGIN:VEVENT
UID:63633732-6564-4737-b233-306539383238
DTSTAMP:20260424T051354Z
DESCRIPTION:4/4 SK HAMR\, z.s. - Sokol HP 2:0 (19\,19)
DTSTART;TZID=Europe/Berlin:20260419T120000
DTEND;TZID=Europe/Berlin:20260419T140000
LOCATION:Sokol Bubeneč\, Korunovační 630 Praha - Bubeneč
SUMMARY:PP-U20Z-6-A: SK HAMR\, z.s.-Sokol HP
END:VEVENT
BEGIN:VEVENT
UID:37646331-3538-4065-b731-636532646435
DTSTAMP:20260424T051354Z
DESCRIPTION:5/5 Sokol HP - SK Meteor Praha B 0:2 (-17\,-18)
DTSTART;TZID=Europe/Berlin:20260419T130000
DTEND;TZID=Europe/Berlin:20260419T150000
LOCATION:Sokol Bubeneč\, Korunovační 630 Praha - Bubeneč
SUMMARY:PP-U20Z-6-A: Sokol HP-SK Meteor Praha B
END:VEVENT
BEGIN:VEVENT
UID:37623734-3161-4332-b131-333561633737
DTSTAMP:20260424T051354Z
DESCRIPTION:6/6 BVŠP Koráb - SK HAMR\, z.s. 2:1 (17\,-18\,12)
DTSTART;TZID=Europe/Berlin:20260419T140000
DTEND;TZID=Europe/Berlin:20260419T160000
LOCATION:Sokol Bubeneč\, Korunovační 630 Praha - Bubeneč
SUMMARY:PP-U20Z-6-A: BVŠP Koráb-SK HAMR\, z.s.
END:VEVENT
END:VCALENDAR
