BEGIN:VCALENDAR
VERSION:2.0
PRODID:-//PP-U20Z-6-D//NONSGML kigkonsult.se iCalcreator 2.41.80//
CALSCALE:GREGORIAN
UID:37356434-6461-4464-b838-363839653863
BEGIN:VEVENT
UID:66636564-3463-4461-b136-363130636362
DTSTAMP:20260424T051354Z
DESCRIPTION:1/1 Orion Praha C - Střešovice C 2:0 (8\,18)
DTSTART;TZID=Europe/Berlin:20260419T090000
DTEND;TZID=Europe/Berlin:20260419T110000
LOCATION:TJ Tatran Střešovice\, Sibeliova 368 Praha - Střešovice
SUMMARY:PP-U20Z-6-D: Orion Praha C-Střešovice C
END:VEVENT
BEGIN:VEVENT
UID:66343263-6262-4530-b837-393336363030
DTSTAMP:20260424T051354Z
DESCRIPTION:2/2 Vršovice A - SK Slavia Praha 2:1 (-20\,24\,11)
DTSTART;TZID=Europe/Berlin:20260419T100000
DTEND;TZID=Europe/Berlin:20260419T120000
LOCATION:TJ Tatran Střešovice\, Sibeliova 368 Praha - Střešovice
SUMMARY:PP-U20Z-6-D: Vršovice A-SK Slavia Praha
END:VEVENT
BEGIN:VEVENT
UID:61326133-6430-4931-a637-363562643234
DTSTAMP:20260424T051354Z
DESCRIPTION:3/3 Střešovice C - SK Slavia Praha 2:0 (25\,21)
DTSTART;TZID=Europe/Berlin:20260419T110000
DTEND;TZID=Europe/Berlin:20260419T130000
LOCATION:TJ Tatran Střešovice\, Sibeliova 368 Praha - Střešovice
SUMMARY:PP-U20Z-6-D: Střešovice C-SK Slavia Praha
END:VEVENT
BEGIN:VEVENT
UID:39363338-3165-4366-b538-343534343139
DTSTAMP:20260424T051354Z
DESCRIPTION:4/4 Orion Praha C - Vršovice A 2:1 (18\,-18\,12)
DTSTART;TZID=Europe/Berlin:20260419T120000
DTEND;TZID=Europe/Berlin:20260419T140000
LOCATION:TJ Tatran Střešovice\, Sibeliova 368 Praha - Střešovice
SUMMARY:PP-U20Z-6-D: Orion Praha C-Vršovice A
END:VEVENT
BEGIN:VEVENT
UID:64373035-6337-4830-b437-343563316135
DTSTAMP:20260424T051354Z
DESCRIPTION:5/5 Vršovice A - Střešovice C 2:1 (28\,-20\,13)
DTSTART;TZID=Europe/Berlin:20260419T130000
DTEND;TZID=Europe/Berlin:20260419T150000
LOCATION:TJ Tatran Střešovice\, Sibeliova 368 Praha - Střešovice
SUMMARY:PP-U20Z-6-D: Vršovice A-Střešovice C
END:VEVENT
BEGIN:VEVENT
UID:62656363-6535-4431-a364-666265333766
DTSTAMP:20260424T051354Z
DESCRIPTION:6/6 SK Slavia Praha - Orion Praha C 2:0 (19\,20)
DTSTART;TZID=Europe/Berlin:20260419T140000
DTEND;TZID=Europe/Berlin:20260419T160000
LOCATION:TJ Tatran Střešovice\, Sibeliova 368 Praha - Střešovice
SUMMARY:PP-U20Z-6-D: SK Slavia Praha-Orion Praha C
END:VEVENT
END:VCALENDAR
