BEGIN:VCALENDAR
VERSION:2.0
PRODID:-//CP-U20M-4B-4-6//NONSGML kigkonsult.se iCalcreator 2.41.80//
CALSCALE:GREGORIAN
UID:62353532-6231-4963-b737-343134663763
BEGIN:VEVENT
UID:65323066-6632-4438-b739-366139346532
DTSTAMP:20260422T171425Z
DESCRIPTION:1/1 Orel Letohrad - VK SPORT RK 2:0 (21\,22)
DTSTART;TZID=Europe/Berlin:20260412T140000
DTEND;TZID=Europe/Berlin:20260412T160000
LOCATION:TJ Spartak Letohrad\, Jilemnického 341 Letohrad
SUMMARY:CP-U20M-4B-4-6: Orel Letohrad-VK SPORT RK
END:VEVENT
BEGIN:VEVENT
UID:38643731-6331-4033-b264-616334383331
DTSTAMP:20260422T171425Z
DESCRIPTION:2/2 TJ Lokomotiva Česká Lípa\, z.s. - VK SPORT RK 1:2 (12\,-20\
 ,-13)
DTSTART;TZID=Europe/Berlin:20260412T151500
DTEND;TZID=Europe/Berlin:20260412T171500
LOCATION:ZŠ Lada\, Šluknovská 2904 Česká Lípa
SUMMARY:CP-U20M-4B-4-6: TJ Lokomotiva Česká Lípa\, z.s.-VK SPORT RK
END:VEVENT
BEGIN:VEVENT
UID:37376234-6434-4130-a461-343066366462
DTSTAMP:20260422T171425Z
DESCRIPTION:3/3 Orel Letohrad - TJ Lokomotiva Česká Lípa\, z.s. 2:0 (24\,16
 )
DTSTART;TZID=Europe/Berlin:20260412T163000
DTEND;TZID=Europe/Berlin:20260412T183000
LOCATION:TJ Spartak Letohrad\, Jilemnického 341 Letohrad
SUMMARY:CP-U20M-4B-4-6: Orel Letohrad-TJ Lokomotiva Česká Lípa\, z.s.
END:VEVENT
END:VCALENDAR
