BEGIN:VCALENDAR
VERSION:2.0
PRODID:-//CP-U20M-4C-7-9//NONSGML kigkonsult.se iCalcreator 2.41.80//
CALSCALE:GREGORIAN
UID:34306238-3239-4432-a431-653863633438
BEGIN:VEVENT
UID:37633132-3135-4064-b064-333131363064
DTSTAMP:20260422T171425Z
DESCRIPTION:1/1 VKM Nová Paka - Tělovýchovná jednota Jiskra Nový Bor\, z.s.
  2:0 (23\,20)
DTSTART;TZID=Europe/Berlin:20260412T140000
DTEND;TZID=Europe/Berlin:20260412T160000
LOCATION:ZŠ Husitská\, O. Číly 1933 Nová Paka
SUMMARY:CP-U20M-4C-7-9: VKM Nová Paka-Tělovýchovná jednota Jiskra Nový Bor\
 , z.s.
END:VEVENT
BEGIN:VEVENT
UID:63636264-6336-4662-b337-386330633135
DTSTAMP:20260422T171425Z
DESCRIPTION:2/2 TJ Šumperk - Tělovýchovná jednota Jiskra Nový Bor\, z.s. 2:
 0 (21\,25)
DTSTART;TZID=Europe/Berlin:20260412T151500
DTEND;TZID=Europe/Berlin:20260412T171500
LOCATION:3. ZŠ Šumperk\, 8. května 870 Šumperk
SUMMARY:CP-U20M-4C-7-9: TJ Šumperk-Tělovýchovná jednota Jiskra Nový Bor\, z
 .s.
END:VEVENT
BEGIN:VEVENT
UID:36326536-3165-4430-b262-393139333038
DTSTAMP:20260422T171425Z
DESCRIPTION:3/3 TJ Šumperk - VKM Nová Paka 2:0 (24\,22)
DTSTART;TZID=Europe/Berlin:20260412T163000
DTEND;TZID=Europe/Berlin:20260412T183000
LOCATION:3. ZŠ Šumperk\, 8. května 870 Šumperk
SUMMARY:CP-U20M-4C-7-9: TJ Šumperk-VKM Nová Paka
END:VEVENT
END:VCALENDAR
