BEGIN:VCALENDAR
VERSION:2.0
PRODID:-//CP-U18Z-4D//NONSGML kigkonsult.se iCalcreator 2.41.80//
CALSCALE:GREGORIAN
UID:39666539-3964-4563-a232-363638333736
BEGIN:VEVENT
UID:61393933-6333-4033-b735-633035656230
DTSTAMP:20260424T051358Z
DESCRIPTION:1/1 TJ Lokomotiva Česká Lípa\, z.s. - Uh.Hradiště B 2:0 (24\,21
 )
DTSTART;TZID=Europe/Berlin:20260411T100000
DTEND;TZID=Europe/Berlin:20260411T120000
LOCATION:ZŠ Lada\, Šluknovská 2904 Česká Lípa
SUMMARY:CP-U18Z-4D: TJ Lokomotiva Česká Lípa\, z.s.-Uh.Hradiště B
END:VEVENT
BEGIN:VEVENT
UID:35636234-3665-4037-a165-383532393538
DTSTAMP:20260424T051358Z
DESCRIPTION:1/2 TJ JUNIOR Brno-Líšeň - Sportovní klub Meteor Praha 2:0 (21\
 ,13)
DTSTART;TZID=Europe/Berlin:20260411T100000
DTEND;TZID=Europe/Berlin:20260411T120000
LOCATION:tělocvičny ZŠ Novolíšeňská\, Brno\, Novolíšeňská 2411 Brno - Líšeň
SUMMARY:CP-U18Z-4D: TJ JUNIOR Brno-Líšeň-Sportovní klub Meteor Praha
END:VEVENT
BEGIN:VEVENT
UID:33393262-3436-4164-b966-383964333961
DTSTAMP:20260424T051358Z
DESCRIPTION:2/3 Uh.Hradiště B - Volejbalový klub Třebíč 0:2 (-20\,-11)
DTSTART;TZID=Europe/Berlin:20260411T111500
DTEND;TZID=Europe/Berlin:20260411T131500
LOCATION:Městská sportovní hala\, Stonky 860 Uherské Hradiště
SUMMARY:CP-U18Z-4D: Uh.Hradiště B-Volejbalový klub Třebíč
END:VEVENT
BEGIN:VEVENT
UID:32313264-6334-4662-b265-356330303962
DTSTAMP:20260424T051358Z
DESCRIPTION:2/4 St.M.-Náchod - TJ JUNIOR Brno-Líšeň 2:0 (14\,24)
DTSTART;TZID=Europe/Berlin:20260411T111500
DTEND;TZID=Europe/Berlin:20260411T131500
LOCATION:Sportovni hala TJ. Sokol Staré Město - Náchod\, Na Skalce 263 Nách
 od - Staré Město nad Metují
SUMMARY:CP-U18Z-4D: St.M.-Náchod-TJ JUNIOR Brno-Líšeň
END:VEVENT
BEGIN:VEVENT
UID:32623864-3764-4465-b331-316433393763
DTSTAMP:20260424T051358Z
DESCRIPTION:3/5 TJ Lokomotiva Česká Lípa\, z.s. - St.M.-Náchod 0:2 (-21\,-1
 6)
DTSTART;TZID=Europe/Berlin:20260411T123000
DTEND;TZID=Europe/Berlin:20260411T143000
LOCATION:ZŠ Lada\, Šluknovská 2904 Česká Lípa
SUMMARY:CP-U18Z-4D: TJ Lokomotiva Česká Lípa\, z.s.-St.M.-Náchod
END:VEVENT
BEGIN:VEVENT
UID:62366139-6537-4764-a466-616435363762
DTSTAMP:20260424T051358Z
DESCRIPTION:3/6 Sportovní klub Meteor Praha - Volejbalový klub Třebíč 0:2 (
 -18\,-13)
DTSTART;TZID=Europe/Berlin:20260411T123000
DTEND;TZID=Europe/Berlin:20260411T143000
LOCATION:ZŠ Žernosecká\, Žernosecká 1597 Praha - Kobylisy
SUMMARY:CP-U18Z-4D: Sportovní klub Meteor Praha-Volejbalový klub Třebíč
END:VEVENT
BEGIN:VEVENT
UID:30386532-3666-4437-b538-396238663431
DTSTAMP:20260424T051358Z
DESCRIPTION:4/7 TJ Lokomotiva Česká Lípa\, z.s. - Sportovní klub Meteor Pra
 ha 2:0 (22\,22)
DTSTART;TZID=Europe/Berlin:20260411T134500
DTEND;TZID=Europe/Berlin:20260411T154500
LOCATION:ZŠ Lada\, Šluknovská 2904 Česká Lípa
SUMMARY:CP-U18Z-4D: TJ Lokomotiva Česká Lípa\, z.s.-Sportovní klub Meteor P
 raha
END:VEVENT
BEGIN:VEVENT
UID:39353836-3664-4339-b137-373934623066
DTSTAMP:20260424T051358Z
DESCRIPTION:4/8 Uh.Hradiště B - TJ JUNIOR Brno-Líšeň 2:0 (22\,23)
DTSTART;TZID=Europe/Berlin:20260411T134500
DTEND;TZID=Europe/Berlin:20260411T154500
LOCATION:Městská sportovní hala\, Stonky 860 Uherské Hradiště
SUMMARY:CP-U18Z-4D: Uh.Hradiště B-TJ JUNIOR Brno-Líšeň
END:VEVENT
BEGIN:VEVENT
UID:63343837-6661-4235-a339-366139346236
DTSTAMP:20260424T051358Z
DESCRIPTION:5/9 St.M.-Náchod - Volejbalový klub Třebíč 2:0 (21\,24)
DTSTART;TZID=Europe/Berlin:20260411T150000
DTEND;TZID=Europe/Berlin:20260411T170000
LOCATION:Sportovni hala TJ. Sokol Staré Město - Náchod\, Na Skalce 263 Nách
 od - Staré Město nad Metují
SUMMARY:CP-U18Z-4D: St.M.-Náchod-Volejbalový klub Třebíč
END:VEVENT
BEGIN:VEVENT
UID:63643365-3861-4737-b039-643531613932
DTSTAMP:20260424T051358Z
DESCRIPTION:6/10 TJ JUNIOR Brno-Líšeň - Volejbalový klub Třebíč 2:0 (14\,21
 )
DTSTART;TZID=Europe/Berlin:20260412T090000
DTEND;TZID=Europe/Berlin:20260412T110000
LOCATION:tělocvičny ZŠ Novolíšeňská\, Brno\, Novolíšeňská 2411 Brno - Líšeň
SUMMARY:CP-U18Z-4D: TJ JUNIOR Brno-Líšeň-Volejbalový klub Třebíč
END:VEVENT
BEGIN:VEVENT
UID:62393738-6264-4762-b433-636530376431
DTSTAMP:20260424T051358Z
DESCRIPTION:6/11 Uh.Hradiště B - St.M.-Náchod 0:2 (-16\,-21)
DTSTART;TZID=Europe/Berlin:20260412T090000
DTEND;TZID=Europe/Berlin:20260412T110000
LOCATION:Městská sportovní hala\, Stonky 860 Uherské Hradiště
SUMMARY:CP-U18Z-4D: Uh.Hradiště B-St.M.-Náchod
END:VEVENT
BEGIN:VEVENT
UID:35353064-3533-4932-b065-656532623036
DTSTAMP:20260424T051358Z
DESCRIPTION:7/12 TJ Lokomotiva Česká Lípa\, z.s. - TJ JUNIOR Brno-Líšeň 0:2
  (-13\,-21)
DTSTART;TZID=Europe/Berlin:20260412T101500
DTEND;TZID=Europe/Berlin:20260412T121500
LOCATION:ZŠ Lada\, Šluknovská 2904 Česká Lípa
SUMMARY:CP-U18Z-4D: TJ Lokomotiva Česká Lípa\, z.s.-TJ JUNIOR Brno-Líšeň
END:VEVENT
BEGIN:VEVENT
UID:33316632-6334-4539-b936-343535663165
DTSTAMP:20260424T051358Z
DESCRIPTION:7/13 Uh.Hradiště B - Sportovní klub Meteor Praha 1:2 (-25\,20\,
 -12)
DTSTART;TZID=Europe/Berlin:20260412T101500
DTEND;TZID=Europe/Berlin:20260412T121500
LOCATION:Městská sportovní hala\, Stonky 860 Uherské Hradiště
SUMMARY:CP-U18Z-4D: Uh.Hradiště B-Sportovní klub Meteor Praha
END:VEVENT
BEGIN:VEVENT
UID:33376365-3763-4232-a231-313861323633
DTSTAMP:20260424T051358Z
DESCRIPTION:8/14 TJ Lokomotiva Česká Lípa\, z.s. - Volejbalový klub Třebíč 
 0:2 (-12\,-22)
DTSTART;TZID=Europe/Berlin:20260412T113000
DTEND;TZID=Europe/Berlin:20260412T133000
LOCATION:ZŠ Lada\, Šluknovská 2904 Česká Lípa
SUMMARY:CP-U18Z-4D: TJ Lokomotiva Česká Lípa\, z.s.-Volejbalový klub Třebíč
END:VEVENT
BEGIN:VEVENT
UID:39623466-6337-4537-b131-623337663966
DTSTAMP:20260424T051358Z
DESCRIPTION:8/15 St.M.-Náchod - Sportovní klub Meteor Praha 2:0 (10\,10)
DTSTART;TZID=Europe/Berlin:20260412T113000
DTEND;TZID=Europe/Berlin:20260412T133000
LOCATION:Sportovni hala TJ. Sokol Staré Město - Náchod\, Na Skalce 263 Nách
 od - Staré Město nad Metují
SUMMARY:CP-U18Z-4D: St.M.-Náchod-Sportovní klub Meteor Praha
END:VEVENT
END:VCALENDAR
