BEGIN:VCALENDAR
VERSION:2.0
PRODID:-//EX-Z-K//NONSGML kigkonsult.se iCalcreator 2.41.80//
CALSCALE:GREGORIAN
UID:32363036-3861-4161-b431-366634623061
BEGIN:VEVENT
UID:34343164-6632-4434-a234-316237663437
DTSTAMP:20260421T154445Z
DESCRIPTION:1/21179 Olymp - Č. Budějovice 3:0 (21\,24\,22)
DTSTART;TZID=Europe/Berlin:20260417T170000
DTEND;TZID=Europe/Berlin:20260417T190000
LOCATION:PVK Olymp Praha\, Přípotoční 300 Praha - Vršovice
SUMMARY:EX-Z-K: Olymp-Č. Budějovice
END:VEVENT
BEGIN:VEVENT
UID:31383337-3438-4335-a532-323336623336
DTSTAMP:20260421T154445Z
DESCRIPTION:1/21180 Olymp - Č. Budějovice 3:1 (19\,-18\,16\,13)
DTSTART;TZID=Europe/Berlin:20260418T180000
DTEND;TZID=Europe/Berlin:20260418T200000
LOCATION:PVK Olymp Praha\, Přípotoční 300 Praha - Vršovice
SUMMARY:EX-Z-K: Olymp-Č. Budějovice
END:VEVENT
BEGIN:VEVENT
UID:37306531-6338-4663-b365-663463356230
DTSTAMP:20260421T154445Z
DESCRIPTION:1/21181 Č. Budějovice - OlympVachutka Milan./Novák Miroslav./Ko
 řenek Jaromír
DTSTART;TZID=Europe/Berlin:20260424T190000
DTEND;TZID=Europe/Berlin:20260424T210000
LOCATION:Sportovní hala Jihočeské univerzity\, Na Sádkách 305 České Budějov
 ice - České Budějovice 2
SUMMARY:EX-Z-K: Č. Budějovice-Olymp
END:VEVENT
BEGIN:VEVENT
UID:30633433-3432-4235-b834-323461373131
DTSTAMP:20260421T154445Z
DESCRIPTION:1/21182 Č. Budějovice - OlympNovák Miroslav./Olt Jiří./Hudík Ma
 rtin
DTSTART;TZID=Europe/Berlin:20260425T190000
DTEND;TZID=Europe/Berlin:20260425T210000
LOCATION:Sportovní hala Jihočeské univerzity\, Na Sádkách 305 České Budějov
 ice - České Budějovice 2
SUMMARY:EX-Z-K: Č. Budějovice-Olymp
END:VEVENT
BEGIN:VEVENT
UID:32623262-3431-4134-b634-353439366666
DTSTAMP:20260421T154445Z
DESCRIPTION:1/21183 Olymp - Č. Budějovice
DTSTART;TZID=Europe/Berlin:20260501T170000
DTEND;TZID=Europe/Berlin:20260501T190000
LOCATION:PVK Olymp Praha\, Přípotoční 300 Praha - Vršovice
SUMMARY:EX-Z-K: Olymp-Č. Budějovice
END:VEVENT
END:VCALENDAR
