BEGIN:VCALENDAR
VERSION:2.0
PRODID:-//EX-U20M-KA//NONSGML kigkonsult.se iCalcreator 2.41.80//
CALSCALE:GREGORIAN
UID:31636633-3766-4434-b862-346462643836
BEGIN:VEVENT
UID:63653064-3034-4133-b165-383939316265
DTSTAMP:20260424T051352Z
DESCRIPTION:1/1 Jirkov - SokolovKindermanová Lenka./Červený Václav
DTSTART;TZID=Europe/Berlin:20260425T100000
DTEND;TZID=Europe/Berlin:20260425T120000
LOCATION:Sportovní hala MG a ZŠ Jirkov\, Krušnohorská 1675 Jirkov
SUMMARY:EX-U20M-KA: Jirkov-Sokolov
END:VEVENT
BEGIN:VEVENT
UID:63306539-3632-4561-b631-663432386265
DTSTAMP:20260424T051352Z
DESCRIPTION:1/2 Klatovy - SK PROSEK BČervený Václav./Kindermanová Lenka
DTSTART;TZID=Europe/Berlin:20260425T120000
DTEND;TZID=Europe/Berlin:20260425T140000
LOCATION:Sportovní hala MG a ZŠ Jirkov\, Krušnohorská 1675 Jirkov
SUMMARY:EX-U20M-KA: Klatovy-SK PROSEK B
END:VEVENT
BEGIN:VEVENT
UID:31303235-3635-4861-b632-653530646365
DTSTAMP:20260424T051352Z
DESCRIPTION:1/3 Jirkov - KlatovyKoutník Patrik./Kohlmann Tomáš
DTSTART;TZID=Europe/Berlin:20260425T150000
DTEND;TZID=Europe/Berlin:20260425T170000
LOCATION:Sportovní hala MG a ZŠ Jirkov\, Krušnohorská 1675 Jirkov
SUMMARY:EX-U20M-KA: Jirkov-Klatovy
END:VEVENT
BEGIN:VEVENT
UID:65643332-3636-4638-a261-636364396135
DTSTAMP:20260424T051352Z
DESCRIPTION:1/4 Sokolov - SK PROSEK BKohlmann Tomáš./Koutník Patrik
DTSTART;TZID=Europe/Berlin:20260425T170000
DTEND;TZID=Europe/Berlin:20260425T190000
LOCATION:Sportovní hala MG a ZŠ Jirkov\, Krušnohorská 1675 Jirkov
SUMMARY:EX-U20M-KA: Sokolov-SK PROSEK B
END:VEVENT
BEGIN:VEVENT
UID:62333161-6465-4162-b865-363931356431
DTSTAMP:20260424T051352Z
DESCRIPTION:1/5 Sokolov - KlatovyKohlmann Tomáš./Koutník Patrik
DTSTART;TZID=Europe/Berlin:20260426T100000
DTEND;TZID=Europe/Berlin:20260426T120000
LOCATION:Sportovní hala MG a ZŠ Jirkov\, Krušnohorská 1675 Jirkov
SUMMARY:EX-U20M-KA: Sokolov-Klatovy
END:VEVENT
BEGIN:VEVENT
UID:33376334-3565-4239-b961-313131386666
DTSTAMP:20260424T051352Z
DESCRIPTION:1/6 SK PROSEK B - JirkovKoutník Patrik./Kohlmann Tomáš
DTSTART;TZID=Europe/Berlin:20260426T120000
DTEND;TZID=Europe/Berlin:20260426T140000
LOCATION:Sportovní hala MG a ZŠ Jirkov\, Krušnohorská 1675 Jirkov
SUMMARY:EX-U20M-KA: SK PROSEK B-Jirkov
END:VEVENT
END:VCALENDAR
