BEGIN:VCALENDAR
VERSION:2.0
PRODID:-//MCR-U16Z-A//NONSGML kigkonsult.se iCalcreator 2.41.80//
CALSCALE:GREGORIAN
UID:38343239-3532-4462-b064-633763333535
BEGIN:VEVENT
UID:30643134-3565-4139-b665-623261386635
DTSTAMP:20260422T154517Z
DESCRIPTION:1/1 Prostějov - OlympHorváth Kateřina
DTSTART;TZID=Europe/Berlin:20260425T100000
DTEND;TZID=Europe/Berlin:20260425T120000
LOCATION:Národní sportovní centrum\, Za velodromem 4187 Prostějov
SUMMARY:MCR-U16Z-A: Prostějov-Olymp
END:VEVENT
BEGIN:VEVENT
UID:36303065-3430-4562-b733-306235303539
DTSTAMP:20260422T154517Z
DESCRIPTION:1/2 Znojmo - Ústí n. L.Chytil Antonín
DTSTART;TZID=Europe/Berlin:20260425T100000
DTEND;TZID=Europe/Berlin:20260425T120000
LOCATION:Národní sportovní centrum\, Za velodromem 4187 Prostějov
SUMMARY:MCR-U16Z-A: Znojmo-Ústí n. L.
END:VEVENT
BEGIN:VEVENT
UID:31613263-3262-4031-a431-636634643433
DTSTAMP:20260422T154517Z
DESCRIPTION:1/3 Svitavy - ChodovZaoral Karel\nNH: Letní těl.
DTSTART;TZID=Europe/Berlin:20260425T100000
DTEND;TZID=Europe/Berlin:20260425T120000
LOCATION:Národní sportovní centrum\, Za velodromem 4187 Prostějov
SUMMARY:MCR-U16Z-A: Svitavy-Chodov
END:VEVENT
BEGIN:VEVENT
UID:32363431-3330-4366-b066-623266333864
DTSTAMP:20260422T154517Z
DESCRIPTION:2/4 Znojmo - HořoviceHorváth Kateřina
DTSTART;TZID=Europe/Berlin:20260425T113000
DTEND;TZID=Europe/Berlin:20260425T133000
LOCATION:Národní sportovní centrum\, Za velodromem 4187 Prostějov
SUMMARY:MCR-U16Z-A: Znojmo-Hořovice
END:VEVENT
BEGIN:VEVENT
UID:35363338-3635-4639-b639-626331633466
DTSTAMP:20260422T154517Z
DESCRIPTION:2/5 Ústí n. L. - SvitavyChytil Antonín
DTSTART;TZID=Europe/Berlin:20260425T113000
DTEND;TZID=Europe/Berlin:20260425T133000
LOCATION:Národní sportovní centrum\, Za velodromem 4187 Prostějov
SUMMARY:MCR-U16Z-A: Ústí n. L.-Svitavy
END:VEVENT
BEGIN:VEVENT
UID:62386631-6432-4434-a331-303763653439
DTSTAMP:20260422T154517Z
DESCRIPTION:2/6 Chodov - Frýdek-MístekZaoral Karel\nNH: Letní těl.
DTSTART;TZID=Europe/Berlin:20260425T113000
DTEND;TZID=Europe/Berlin:20260425T133000
LOCATION:Národní sportovní centrum\, Za velodromem 4187 Prostějov
SUMMARY:MCR-U16Z-A: Chodov-Frýdek-Místek
END:VEVENT
BEGIN:VEVENT
UID:66373561-3337-4561-b566-623030323866
DTSTAMP:20260422T154517Z
DESCRIPTION:3/7 Prostějov - ZnojmoHorváth Kateřina
DTSTART;TZID=Europe/Berlin:20260425T130000
DTEND;TZID=Europe/Berlin:20260425T150000
LOCATION:Národní sportovní centrum\, Za velodromem 4187 Prostějov
SUMMARY:MCR-U16Z-A: Prostějov-Znojmo
END:VEVENT
BEGIN:VEVENT
UID:63333532-3935-4664-b836-306562613166
DTSTAMP:20260422T154517Z
DESCRIPTION:3/8 Svitavy - Frýdek-MístekZaoral Karel
DTSTART;TZID=Europe/Berlin:20260425T130000
DTEND;TZID=Europe/Berlin:20260425T150000
LOCATION:Národní sportovní centrum\, Za velodromem 4187 Prostějov
SUMMARY:MCR-U16Z-A: Svitavy-Frýdek-Místek
END:VEVENT
BEGIN:VEVENT
UID:35323231-3264-4336-b665-363131663164
DTSTAMP:20260422T154517Z
DESCRIPTION:4/9 Chodov - OlympZaoral Karel
DTSTART;TZID=Europe/Berlin:20260425T143000
DTEND;TZID=Europe/Berlin:20260425T163000
LOCATION:Národní sportovní centrum\, Za velodromem 4187 Prostějov
SUMMARY:MCR-U16Z-A: Chodov-Olymp
END:VEVENT
BEGIN:VEVENT
UID:34313963-6230-4264-a139-366338653134
DTSTAMP:20260422T154517Z
DESCRIPTION:4/10 Ústí n. L. - HořoviceVašíček Jiří
DTSTART;TZID=Europe/Berlin:20260425T143000
DTEND;TZID=Europe/Berlin:20260425T163000
LOCATION:Národní sportovní centrum\, Za velodromem 4187 Prostějov
SUMMARY:MCR-U16Z-A: Ústí n. L.-Hořovice
END:VEVENT
BEGIN:VEVENT
UID:34306339-6431-4965-b861-376135346135
DTSTAMP:20260422T154517Z
DESCRIPTION:5/11 Prostějov - Frýdek-MístekZaoral Karel
DTSTART;TZID=Europe/Berlin:20260425T160000
DTEND;TZID=Europe/Berlin:20260425T180000
LOCATION:Národní sportovní centrum\, Za velodromem 4187 Prostějov
SUMMARY:MCR-U16Z-A: Prostějov-Frýdek-Místek
END:VEVENT
BEGIN:VEVENT
UID:65613962-3232-4931-b433-303836343033
DTSTAMP:20260422T154517Z
DESCRIPTION:5/12 Hořovice - OlympVašíček Jiří
DTSTART;TZID=Europe/Berlin:20260425T160000
DTEND;TZID=Europe/Berlin:20260425T180000
LOCATION:Národní sportovní centrum\, Za velodromem 4187 Prostějov
SUMMARY:MCR-U16Z-A: Hořovice-Olymp
END:VEVENT
BEGIN:VEVENT
UID:38636438-3661-4163-b035-386461616664
DTSTAMP:20260422T154517Z
DESCRIPTION:5/13 Znojmo - SvitavyHorváth Kateřina\nNH: Letní těl.
DTSTART;TZID=Europe/Berlin:20260425T153000
DTEND;TZID=Europe/Berlin:20260425T173000
LOCATION:Národní sportovní centrum\, Za velodromem 4187 Prostějov
SUMMARY:MCR-U16Z-A: Znojmo-Svitavy
END:VEVENT
BEGIN:VEVENT
UID:66663632-3330-4963-a431-333132626633
DTSTAMP:20260422T154517Z
DESCRIPTION:6/14 Prostějov - ChodovVašíček Jiří
DTSTART;TZID=Europe/Berlin:20260425T173000
DTEND;TZID=Europe/Berlin:20260425T193000
LOCATION:Národní sportovní centrum\, Za velodromem 4187 Prostějov
SUMMARY:MCR-U16Z-A: Prostějov-Chodov
END:VEVENT
BEGIN:VEVENT
UID:63626164-3765-4335-b538-386565613163
DTSTAMP:20260422T154517Z
DESCRIPTION:6/15 Frýdek-Místek - HořoviceHorváth Kateřina
DTSTART;TZID=Europe/Berlin:20260425T173000
DTEND;TZID=Europe/Berlin:20260425T193000
LOCATION:Národní sportovní centrum\, Za velodromem 4187 Prostějov
SUMMARY:MCR-U16Z-A: Frýdek-Místek-Hořovice
END:VEVENT
BEGIN:VEVENT
UID:31623561-3336-4333-b666-313263613461
DTSTAMP:20260422T154517Z
DESCRIPTION:6/16 Ústí n. L. - OlympZaoral Karel\nNH: Letní těl.
DTSTART;TZID=Europe/Berlin:20260425T173000
DTEND;TZID=Europe/Berlin:20260425T193000
LOCATION:Národní sportovní centrum\, Za velodromem 4187 Prostějov
SUMMARY:MCR-U16Z-A: Ústí n. L.-Olymp
END:VEVENT
BEGIN:VEVENT
UID:61336161-3631-4361-a233-316334316535
DTSTAMP:20260422T154517Z
DESCRIPTION:7/17 Frýdek-Místek - OlympAdamovský Pavel
DTSTART;TZID=Europe/Berlin:20260426T090000
DTEND;TZID=Europe/Berlin:20260426T110000
LOCATION:Národní sportovní centrum\, Za velodromem 4187 Prostějov
SUMMARY:MCR-U16Z-A: Frýdek-Místek-Olymp
END:VEVENT
BEGIN:VEVENT
UID:31373065-6561-4431-b136-356563613938
DTSTAMP:20260422T154517Z
DESCRIPTION:7/18 Hořovice - SvitavyVašíček Jiří
DTSTART;TZID=Europe/Berlin:20260426T090000
DTEND;TZID=Europe/Berlin:20260426T110000
LOCATION:Národní sportovní centrum\, Za velodromem 4187 Prostějov
SUMMARY:MCR-U16Z-A: Hořovice-Svitavy
END:VEVENT
BEGIN:VEVENT
UID:33656131-6439-4433-b565-303361393262
DTSTAMP:20260422T154517Z
DESCRIPTION:7/19 Chodov - ZnojmoSpáčilová Sára Marie\nNH: Letní těl.
DTSTART;TZID=Europe/Berlin:20260426T090000
DTEND;TZID=Europe/Berlin:20260426T110000
LOCATION:Národní sportovní centrum\, Za velodromem 4187 Prostějov
SUMMARY:MCR-U16Z-A: Chodov-Znojmo
END:VEVENT
BEGIN:VEVENT
UID:38396136-3839-4634-b531-643331393431
DTSTAMP:20260422T154517Z
DESCRIPTION:8/20 Ústí n. L. - ProstějovAdamovský Pavel
DTSTART;TZID=Europe/Berlin:20260426T103000
DTEND;TZID=Europe/Berlin:20260426T123000
LOCATION:Národní sportovní centrum\, Za velodromem 4187 Prostějov
SUMMARY:MCR-U16Z-A: Ústí n. L.-Prostějov
END:VEVENT
BEGIN:VEVENT
UID:32313438-6134-4432-b632-666461363831
DTSTAMP:20260422T154517Z
DESCRIPTION:8/21 Svitavy - OlympVašíček Jiří
DTSTART;TZID=Europe/Berlin:20260426T103000
DTEND;TZID=Europe/Berlin:20260426T123000
LOCATION:Národní sportovní centrum\, Za velodromem 4187 Prostějov
SUMMARY:MCR-U16Z-A: Svitavy-Olymp
END:VEVENT
BEGIN:VEVENT
UID:33653930-6330-4336-b866-386636396631
DTSTAMP:20260422T154517Z
DESCRIPTION:8/22 Frýdek-Místek - ZnojmoSpáčilová Sára Marie\nNH: Letní těl.
DTSTART;TZID=Europe/Berlin:20260426T103000
DTEND;TZID=Europe/Berlin:20260426T123000
LOCATION:Národní sportovní centrum\, Za velodromem 4187 Prostějov
SUMMARY:MCR-U16Z-A: Frýdek-Místek-Znojmo
END:VEVENT
BEGIN:VEVENT
UID:63613035-6263-4134-b961-313533616136
DTSTAMP:20260422T154517Z
DESCRIPTION:9/23 Hořovice - ProstějovAdamovský Pavel
DTSTART;TZID=Europe/Berlin:20260426T120000
DTEND;TZID=Europe/Berlin:20260426T140000
LOCATION:Národní sportovní centrum\, Za velodromem 4187 Prostějov
SUMMARY:MCR-U16Z-A: Hořovice-Prostějov
END:VEVENT
BEGIN:VEVENT
UID:35633738-3965-4035-b137-373534363736
DTSTAMP:20260422T154517Z
DESCRIPTION:9/24 Chodov - Ústí n. L.Vašíček Jiří
DTSTART;TZID=Europe/Berlin:20260426T120000
DTEND;TZID=Europe/Berlin:20260426T140000
LOCATION:Národní sportovní centrum\, Za velodromem 4187 Prostějov
SUMMARY:MCR-U16Z-A: Chodov-Ústí n. L.
END:VEVENT
BEGIN:VEVENT
UID:35663661-3736-4163-b939-666235313935
DTSTAMP:20260422T154517Z
DESCRIPTION:9/25 Znojmo - OlympSpáčilová Sára Marie\nNH: Letní těl.
DTSTART;TZID=Europe/Berlin:20260426T120000
DTEND;TZID=Europe/Berlin:20260426T140000
LOCATION:Národní sportovní centrum\, Za velodromem 4187 Prostějov
SUMMARY:MCR-U16Z-A: Znojmo-Olymp
END:VEVENT
BEGIN:VEVENT
UID:35663239-3538-4662-b762-366538376637
DTSTAMP:20260422T154517Z
DESCRIPTION:10/26 Svitavy - ProstějovAdamovský Pavel
DTSTART;TZID=Europe/Berlin:20260426T133000
DTEND;TZID=Europe/Berlin:20260426T153000
LOCATION:Národní sportovní centrum\, Za velodromem 4187 Prostějov
SUMMARY:MCR-U16Z-A: Svitavy-Prostějov
END:VEVENT
BEGIN:VEVENT
UID:62663139-3964-4465-a464-363033626537
DTSTAMP:20260422T154517Z
DESCRIPTION:10/27 Frýdek-Místek - Ústí n. L.Vašíček Jiří
DTSTART;TZID=Europe/Berlin:20260426T133000
DTEND;TZID=Europe/Berlin:20260426T153000
LOCATION:Národní sportovní centrum\, Za velodromem 4187 Prostějov
SUMMARY:MCR-U16Z-A: Frýdek-Místek-Ústí n. L.
END:VEVENT
BEGIN:VEVENT
UID:30636466-3665-4934-b966-666132386636
DTSTAMP:20260422T154517Z
DESCRIPTION:10/28 Hořovice - ChodovSpáčilová Sára Marie\nNH: Letní těl.
DTSTART;TZID=Europe/Berlin:20260426T133000
DTEND;TZID=Europe/Berlin:20260426T153000
LOCATION:Národní sportovní centrum\, Za velodromem 4187 Prostějov
SUMMARY:MCR-U16Z-A: Hořovice-Chodov
END:VEVENT
END:VCALENDAR
