BEGIN:VCALENDAR
VERSION:2.0
PRODID:-//MCR-U16Z-C//NONSGML kigkonsult.se iCalcreator 2.41.80//
CALSCALE:GREGORIAN
UID:39653831-3332-4964-a661-303062666631
BEGIN:VEVENT
UID:37633065-6631-4564-a539-643434383635
DTSTAMP:20260424T051353Z
DESCRIPTION:1/1 Ostrava - Jablonec n. N.Grzymek Ondřej
DTSTART;TZID=Europe/Berlin:20260425T093000
DTEND;TZID=Europe/Berlin:20260425T113000
LOCATION:Víceúčelová sportovní hala\,  Raškovice18
SUMMARY:MCR-U16Z-C: Ostrava-Jablonec n. N.
END:VEVENT
BEGIN:VEVENT
UID:61613133-6536-4331-b435-313461326439
DTSTAMP:20260424T051353Z
DESCRIPTION:1/2 Baník Rtyně - PříbramVondráček Jan
DTSTART;TZID=Europe/Berlin:20260425T093000
DTEND;TZID=Europe/Berlin:20260425T113000
LOCATION:Víceúčelová sportovní hala\,  Raškovice18
SUMMARY:MCR-U16Z-C: Baník Rtyně-Příbram
END:VEVENT
BEGIN:VEVENT
UID:62333534-3430-4162-a433-316666663634
DTSTAMP:20260424T051353Z
DESCRIPTION:1/3 Mikulova - N. VeselíCapáková Kateřina
DTSTART;TZID=Europe/Berlin:20260425T093000
DTEND;TZID=Europe/Berlin:20260425T113000
LOCATION:Víceúčelová sportovní hala\,  Raškovice18
SUMMARY:MCR-U16Z-C: Mikulova-N. Veselí
END:VEVENT
BEGIN:VEVENT
UID:34623232-3762-4136-a566-626632393338
DTSTAMP:20260424T051353Z
DESCRIPTION:2/4 Ostrava - PříbramGrzymek Ondřej
DTSTART;TZID=Europe/Berlin:20260425T110000
DTEND;TZID=Europe/Berlin:20260425T130000
LOCATION:Víceúčelová sportovní hala\,  Raškovice18
SUMMARY:MCR-U16Z-C: Ostrava-Příbram
END:VEVENT
BEGIN:VEVENT
UID:65376165-6139-4038-b335-353066643438
DTSTAMP:20260424T051353Z
DESCRIPTION:2/5 Zlín - OlomoucVondráček Jan
DTSTART;TZID=Europe/Berlin:20260425T110000
DTEND;TZID=Europe/Berlin:20260425T130000
LOCATION:Víceúčelová sportovní hala\,  Raškovice18
SUMMARY:MCR-U16Z-C: Zlín-Olomouc
END:VEVENT
BEGIN:VEVENT
UID:36363561-6564-4636-a161-333934646136
DTSTAMP:20260424T051353Z
DESCRIPTION:2/6 Baník Rtyně - N. VeselíPustějovský Aleš
DTSTART;TZID=Europe/Berlin:20260425T110000
DTEND;TZID=Europe/Berlin:20260425T130000
LOCATION:Víceúčelová sportovní hala\,  Raškovice18
SUMMARY:MCR-U16Z-C: Baník Rtyně-N. Veselí
END:VEVENT
BEGIN:VEVENT
UID:38323433-3336-4438-a461-313132333263
DTSTAMP:20260424T051353Z
DESCRIPTION:3/7 Olomouc - MikulovaGrzymek Ondřej
DTSTART;TZID=Europe/Berlin:20260425T123000
DTEND;TZID=Europe/Berlin:20260425T143000
LOCATION:Víceúčelová sportovní hala\,  Raškovice18
SUMMARY:MCR-U16Z-C: Olomouc-Mikulova
END:VEVENT
BEGIN:VEVENT
UID:66313338-3837-4261-b664-366632613335
DTSTAMP:20260424T051353Z
DESCRIPTION:3/8 Zlín - Jablonec n. N.Capáková Kateřina
DTSTART;TZID=Europe/Berlin:20260425T123000
DTEND;TZID=Europe/Berlin:20260425T143000
LOCATION:Víceúčelová sportovní hala\,  Raškovice18
SUMMARY:MCR-U16Z-C: Zlín-Jablonec n. N.
END:VEVENT
BEGIN:VEVENT
UID:66343639-3931-4039-b233-313335623230
DTSTAMP:20260424T051353Z
DESCRIPTION:3/9 Příbram - N. VeselíPustějovský Aleš
DTSTART;TZID=Europe/Berlin:20260425T123000
DTEND;TZID=Europe/Berlin:20260425T143000
LOCATION:Víceúčelová sportovní hala\,  Raškovice18
SUMMARY:MCR-U16Z-C: Příbram-N. Veselí
END:VEVENT
BEGIN:VEVENT
UID:34316437-3535-4562-b863-616530643431
DTSTAMP:20260424T051353Z
DESCRIPTION:4/10 Ostrava - ZlínVondráček Jan
DTSTART;TZID=Europe/Berlin:20260425T143000
DTEND;TZID=Europe/Berlin:20260425T163000
LOCATION:Víceúčelová sportovní hala\,  Raškovice18
SUMMARY:MCR-U16Z-C: Ostrava-Zlín
END:VEVENT
BEGIN:VEVENT
UID:31336530-6632-4331-a162-633537396235
DTSTAMP:20260424T051353Z
DESCRIPTION:4/11 Baník Rtyně - OlomoucCapáková Kateřina
DTSTART;TZID=Europe/Berlin:20260425T143000
DTEND;TZID=Europe/Berlin:20260425T163000
LOCATION:Víceúčelová sportovní hala\,  Raškovice18
SUMMARY:MCR-U16Z-C: Baník Rtyně-Olomouc
END:VEVENT
BEGIN:VEVENT
UID:36373636-3531-4238-a164-333436633662
DTSTAMP:20260424T051353Z
DESCRIPTION:4/12 Mikulova - Jablonec n. N.Pustějovský Aleš
DTSTART;TZID=Europe/Berlin:20260425T143000
DTEND;TZID=Europe/Berlin:20260425T163000
LOCATION:Víceúčelová sportovní hala\,  Raškovice18
SUMMARY:MCR-U16Z-C: Mikulova-Jablonec n. N.
END:VEVENT
BEGIN:VEVENT
UID:38636336-6534-4763-a237-313936353966
DTSTAMP:20260424T051353Z
DESCRIPTION:5/13 Ostrava - MikulovaVondráček Jan
DTSTART;TZID=Europe/Berlin:20260425T160000
DTEND;TZID=Europe/Berlin:20260425T180000
LOCATION:Víceúčelová sportovní hala\,  Raškovice18
SUMMARY:MCR-U16Z-C: Ostrava-Mikulova
END:VEVENT
BEGIN:VEVENT
UID:66333462-3630-4633-b233-313765373034
DTSTAMP:20260424T051353Z
DESCRIPTION:5/14 Baník Rtyně - Jablonec n. N.Grzymek Ondřej
DTSTART;TZID=Europe/Berlin:20260425T160000
DTEND;TZID=Europe/Berlin:20260425T180000
LOCATION:Víceúčelová sportovní hala\,  Raškovice18
SUMMARY:MCR-U16Z-C: Baník Rtyně-Jablonec n. N.
END:VEVENT
BEGIN:VEVENT
UID:34623036-3065-4134-a536-373139336537
DTSTAMP:20260424T051353Z
DESCRIPTION:6/15 Olomouc - N. VeselíCapáková Kateřina
DTSTART;TZID=Europe/Berlin:20260425T173000
DTEND;TZID=Europe/Berlin:20260425T193000
LOCATION:Víceúčelová sportovní hala\,  Raškovice18
SUMMARY:MCR-U16Z-C: Olomouc-N. Veselí
END:VEVENT
BEGIN:VEVENT
UID:34336264-6535-4634-a331-623834366465
DTSTAMP:20260424T051353Z
DESCRIPTION:6/16 Zlín - PříbramPustějovský Aleš
DTSTART;TZID=Europe/Berlin:20260425T173000
DTEND;TZID=Europe/Berlin:20260425T193000
LOCATION:Víceúčelová sportovní hala\,  Raškovice18
SUMMARY:MCR-U16Z-C: Zlín-Příbram
END:VEVENT
BEGIN:VEVENT
UID:32633466-3531-4564-b164-393066373030
DTSTAMP:20260424T051353Z
DESCRIPTION:7/17 Mikulova - ZlínHlisnikovský Vojtěch
DTSTART;TZID=Europe/Berlin:20260426T090000
DTEND;TZID=Europe/Berlin:20260426T110000
LOCATION:Víceúčelová sportovní hala\,  Raškovice18
SUMMARY:MCR-U16Z-C: Mikulova-Zlín
END:VEVENT
BEGIN:VEVENT
UID:38343661-3334-4364-a136-303133336666
DTSTAMP:20260424T051353Z
DESCRIPTION:7/18 Příbram - OlomoucTajdusová Markéta
DTSTART;TZID=Europe/Berlin:20260426T090000
DTEND;TZID=Europe/Berlin:20260426T110000
LOCATION:Víceúčelová sportovní hala\,  Raškovice18
SUMMARY:MCR-U16Z-C: Příbram-Olomouc
END:VEVENT
BEGIN:VEVENT
UID:64646333-3965-4232-a166-636462313461
DTSTAMP:20260424T051353Z
DESCRIPTION:7/19 N. Veselí - Jablonec n. N.Grzymek Ondřej
DTSTART;TZID=Europe/Berlin:20260426T090000
DTEND;TZID=Europe/Berlin:20260426T110000
LOCATION:Víceúčelová sportovní hala\,  Raškovice18
SUMMARY:MCR-U16Z-C: N. Veselí-Jablonec n. N.
END:VEVENT
BEGIN:VEVENT
UID:36613563-6664-4164-b136-343865666638
DTSTAMP:20260424T051353Z
DESCRIPTION:8/20 Ostrava - Baník RtyněHlisnikovský Vojtěch
DTSTART;TZID=Europe/Berlin:20260426T103000
DTEND;TZID=Europe/Berlin:20260426T123000
LOCATION:Víceúčelová sportovní hala\,  Raškovice18
SUMMARY:MCR-U16Z-C: Ostrava-Baník Rtyně
END:VEVENT
BEGIN:VEVENT
UID:66646163-3336-4139-b937-626632656361
DTSTAMP:20260424T051353Z
DESCRIPTION:8/21 Příbram - MikulovaTajdusová Markéta
DTSTART;TZID=Europe/Berlin:20260426T103000
DTEND;TZID=Europe/Berlin:20260426T123000
LOCATION:Víceúčelová sportovní hala\,  Raškovice18
SUMMARY:MCR-U16Z-C: Příbram-Mikulova
END:VEVENT
BEGIN:VEVENT
UID:32313431-3766-4337-b436-393465653437
DTSTAMP:20260424T051353Z
DESCRIPTION:8/22 Olomouc - Jablonec n. N.Grzymek Ondřej
DTSTART;TZID=Europe/Berlin:20260426T103000
DTEND;TZID=Europe/Berlin:20260426T123000
LOCATION:Víceúčelová sportovní hala\,  Raškovice18
SUMMARY:MCR-U16Z-C: Olomouc-Jablonec n. N.
END:VEVENT
BEGIN:VEVENT
UID:62336636-6663-4339-a261-396536363633
DTSTAMP:20260424T051353Z
DESCRIPTION:9/23 Ostrava - N. VeselíHlisnikovský Vojtěch
DTSTART;TZID=Europe/Berlin:20260426T123000
DTEND;TZID=Europe/Berlin:20260426T143000
LOCATION:Víceúčelová sportovní hala\,  Raškovice18
SUMMARY:MCR-U16Z-C: Ostrava-N. Veselí
END:VEVENT
BEGIN:VEVENT
UID:38363861-3134-4730-b038-643064356633
DTSTAMP:20260424T051353Z
DESCRIPTION:9/24 Baník Rtyně - ZlínTajdusová Markéta
DTSTART;TZID=Europe/Berlin:20260426T123000
DTEND;TZID=Europe/Berlin:20260426T143000
LOCATION:Víceúčelová sportovní hala\,  Raškovice18
SUMMARY:MCR-U16Z-C: Baník Rtyně-Zlín
END:VEVENT
BEGIN:VEVENT
UID:39366230-3730-4534-b533-373966383636
DTSTAMP:20260424T051353Z
DESCRIPTION:9/25 Příbram - Jablonec n. N.Grzymek Ondřej
DTSTART;TZID=Europe/Berlin:20260426T123000
DTEND;TZID=Europe/Berlin:20260426T143000
LOCATION:Víceúčelová sportovní hala\,  Raškovice18
SUMMARY:MCR-U16Z-C: Příbram-Jablonec n. N.
END:VEVENT
BEGIN:VEVENT
UID:64303137-3138-4031-b664-636462303266
DTSTAMP:20260424T051353Z
DESCRIPTION:10/26 Ostrava - OlomoucHlisnikovský Vojtěch
DTSTART;TZID=Europe/Berlin:20260426T140000
DTEND;TZID=Europe/Berlin:20260426T160000
LOCATION:Víceúčelová sportovní hala\,  Raškovice18
SUMMARY:MCR-U16Z-C: Ostrava-Olomouc
END:VEVENT
BEGIN:VEVENT
UID:65303864-6236-4233-b638-353835356435
DTSTAMP:20260424T051353Z
DESCRIPTION:10/27 Baník Rtyně - MikulovaTajdusová Markéta
DTSTART;TZID=Europe/Berlin:20260426T140000
DTEND;TZID=Europe/Berlin:20260426T160000
LOCATION:Víceúčelová sportovní hala\,  Raškovice18
SUMMARY:MCR-U16Z-C: Baník Rtyně-Mikulova
END:VEVENT
BEGIN:VEVENT
UID:37336231-3530-4035-a236-656637643536
DTSTAMP:20260424T051353Z
DESCRIPTION:10/28 N. Veselí - ZlínGrzymek Ondřej
DTSTART;TZID=Europe/Berlin:20260426T140000
DTEND;TZID=Europe/Berlin:20260426T160000
LOCATION:Víceúčelová sportovní hala\,  Raškovice18
SUMMARY:MCR-U16Z-C: N. Veselí-Zlín
END:VEVENT
END:VCALENDAR
