BEGIN:VCALENDAR
VERSION:2.0
PRODID:-//2-U18Z-KA//NONSGML kigkonsult.se iCalcreator 2.41.80//
CALSCALE:GREGORIAN
UID:34366635-3530-4361-a336-636164636361
BEGIN:VEVENT
UID:63353633-6663-4138-b939-353432623532
DTSTAMP:20260421T165800Z
DESCRIPTION:1/1 Bižuterie - JOKY
DTSTART;TZID=Europe/Berlin:20260501T100000
DTEND;TZID=Europe/Berlin:20260501T120000
LOCATION:Městská sportovní hala\, U Přehrady 4747 Jablonec nad Nisou
SUMMARY:2-U18Z-KA: Bižuterie-JOKY
END:VEVENT
BEGIN:VEVENT
UID:34353766-3964-4336-b766-366535373031
DTSTAMP:20260421T165800Z
DESCRIPTION:1/2 Karlovarsko - Teplice
DTSTART;TZID=Europe/Berlin:20260501T120000
DTEND;TZID=Europe/Berlin:20260501T140000
LOCATION:Městská sportovní hala\, U Přehrady 4747 Jablonec nad Nisou
SUMMARY:2-U18Z-KA: Karlovarsko-Teplice
END:VEVENT
BEGIN:VEVENT
UID:30666363-6337-4236-b434-633639626665
DTSTAMP:20260421T165800Z
DESCRIPTION:1/3 Bižuterie - Karlovarsko
DTSTART;TZID=Europe/Berlin:20260501T150000
DTEND;TZID=Europe/Berlin:20260501T170000
LOCATION:Městská sportovní hala\, U Přehrady 4747 Jablonec nad Nisou
SUMMARY:2-U18Z-KA: Bižuterie-Karlovarsko
END:VEVENT
BEGIN:VEVENT
UID:39323430-3937-4833-b839-623838663332
DTSTAMP:20260421T165800Z
DESCRIPTION:1/4 JOKY - Teplice
DTSTART;TZID=Europe/Berlin:20260501T170000
DTEND;TZID=Europe/Berlin:20260501T190000
LOCATION:Městská sportovní hala\, U Přehrady 4747 Jablonec nad Nisou
SUMMARY:2-U18Z-KA: JOKY-Teplice
END:VEVENT
BEGIN:VEVENT
UID:33666165-6466-4466-b962-316331396530
DTSTAMP:20260421T165800Z
DESCRIPTION:1/5 JOKY - Karlovarsko
DTSTART;TZID=Europe/Berlin:20260502T100000
DTEND;TZID=Europe/Berlin:20260502T120000
LOCATION:Městská sportovní hala\, U Přehrady 4747 Jablonec nad Nisou
SUMMARY:2-U18Z-KA: JOKY-Karlovarsko
END:VEVENT
BEGIN:VEVENT
UID:33373662-3531-4164-b462-396435623734
DTSTAMP:20260421T165800Z
DESCRIPTION:1/6 Teplice - Bižuterie
DTSTART;TZID=Europe/Berlin:20260502T120000
DTEND;TZID=Europe/Berlin:20260502T140000
LOCATION:Městská sportovní hala\, U Přehrady 4747 Jablonec nad Nisou
SUMMARY:2-U18Z-KA: Teplice-Bižuterie
END:VEVENT
END:VCALENDAR
